BEGIN:VCALENDAR
VERSION:2.0
PRODID:-//Showcure - ECPv6.15.20//NONSGML v1.0//EN
CALSCALE:GREGORIAN
METHOD:PUBLISH
X-ORIGINAL-URL:https://showcure.com
X-WR-CALDESC:Events for Showcure
REFRESH-INTERVAL;VALUE=DURATION:PT1H
X-Robots-Tag:noindex
X-PUBLISHED-TTL:PT1H
BEGIN:VTIMEZONE
TZID:America/New_York
BEGIN:DAYLIGHT
TZOFFSETFROM:-0500
TZOFFSETTO:-0400
TZNAME:EDT
DTSTART:20240310T070000
END:DAYLIGHT
BEGIN:STANDARD
TZOFFSETFROM:-0400
TZOFFSETTO:-0500
TZNAME:EST
DTSTART:20241103T060000
END:STANDARD
BEGIN:DAYLIGHT
TZOFFSETFROM:-0500
TZOFFSETTO:-0400
TZNAME:EDT
DTSTART:20250309T070000
END:DAYLIGHT
BEGIN:STANDARD
TZOFFSETFROM:-0400
TZOFFSETTO:-0500
TZNAME:EST
DTSTART:20251102T060000
END:STANDARD
BEGIN:DAYLIGHT
TZOFFSETFROM:-0500
TZOFFSETTO:-0400
TZNAME:EDT
DTSTART:20260308T070000
END:DAYLIGHT
BEGIN:STANDARD
TZOFFSETFROM:-0400
TZOFFSETTO:-0500
TZNAME:EST
DTSTART:20261101T060000
END:STANDARD
END:VTIMEZONE
BEGIN:VEVENT
DTSTART;TZID=America/New_York:20251023T200000
DTEND;TZID=America/New_York:20251023T220000
DTSTAMP:20260422T184817
CREATED:20251006T213007Z
LAST-MODIFIED:20251006T213007Z
UID:10000035-1761249600-1761256800@showcure.com
SUMMARY:SBXLV Presents: SCUM-O-WEEN 🎃
DESCRIPTION:SBXLV Presents: SCUM-O-WEEN 🎃\n!8pm start time!\nALL AGES // FREE SHOW 10/23 Punk Rock vs Hip-Hop @evelpie featuring: @viciousvampira @ohsotryin & @wemightdie.theband @mugatu702 Vendors Tables & Costume Contest! 🧛
URL:https://showcure.com/tcevent/sbxlv-presents-scum-o-ween-%f0%9f%8e%83/
LOCATION:Cafe – Las Vegas\, 508 Fremont St\, Las Vegas\, NV\, 89101\, United States
ATTACH;FMTTYPE=image/png:https://showcure.com/wp-content/uploads/2025/10/Screenshot-2025-10-06-at-2.27.33-PM.png
END:VEVENT
BEGIN:VEVENT
DTSTART;TZID=America/New_York:20251025T020000
DTEND;TZID=America/New_York:20251025T040000
DTSTAMP:20260422T184817
CREATED:20251006T212016Z
LAST-MODIFIED:20251006T212016Z
UID:10000033-1761357600-1761364800@showcure.com
SUMMARY:GHOSTS OF US FEST
DESCRIPTION:HOSTED BY: @RiyahBooking\n(TICKET INSTRUCTIONS ON FLYER!) \nPresented by Grey Witch & RIYAH Booking…\nGHOSTS OF US FEST\nOct 25th 2-10pm All Ages\nFeaturing 10 live performance acts and vendors!\nTicket Link in Bio \nRIYAH Booking and all performance acts have agreed to donate their portion of the ticket sales to an amazing organization called The Cupcake Girls @cupcakegirlsorg \n“Mission: The Cupcake Girls provides confidential support to those involved in the sex industry\, as well as trauma-informed outreach\, advocacy\, holistic resources\, and referral services to provide prevention and aftercare to those affected by sex trafficking. \nWe provide nonjudgmental support to empower our program participants in their pursuits through respect\, resources\, and relationships.” \nCome to rock out to these sick bands\, check out the amazing vendors (announcing soon)\, and donate to a good cause. 👻 \nFlyer Artist: @charlenewco 🎨\nSong: Get Out of My Scene by @wemightdie.theband 🎶
URL:https://showcure.com/tcevent/ghosts-of-us-fest/
LOCATION:Cafe – Henderson\, 722 W Sunset Rd\, Henderson\, NV\, 89011\, United States
ATTACH;FMTTYPE=image/png:https://showcure.com/wp-content/uploads/2025/10/Screenshot-2025-10-06-at-2.06.44-PM.png
END:VEVENT
BEGIN:VEVENT
DTSTART;TZID=America/New_York:20251025T020000
DTEND;TZID=America/New_York:20251025T040000
DTSTAMP:20260422T184817
CREATED:20251006T212037Z
LAST-MODIFIED:20251006T212037Z
UID:10000034-1761357600-1761364800@showcure.com
SUMMARY:GHOSTS OF US FEST
DESCRIPTION:HOSTED BY: @RiyahBooking\n(TICKET INSTRUCTIONS ON FLYER!) \nPresented by Grey Witch & RIYAH Booking…\nGHOSTS OF US FEST\nOct 25th 2-10pm All Ages\nFeaturing 10 live performance acts and vendors!\nTicket Link in Bio \nRIYAH Booking and all performance acts have agreed to donate their portion of the ticket sales to an amazing organization called The Cupcake Girls @cupcakegirlsorg \n“Mission: The Cupcake Girls provides confidential support to those involved in the sex industry\, as well as trauma-informed outreach\, advocacy\, holistic resources\, and referral services to provide prevention and aftercare to those affected by sex trafficking. \nWe provide nonjudgmental support to empower our program participants in their pursuits through respect\, resources\, and relationships.” \nCome to rock out to these sick bands\, check out the amazing vendors (announcing soon)\, and donate to a good cause. 👻 \nFlyer Artist: @charlenewco 🎨\nSong: Get Out of My Scene by @wemightdie.theband 🎶
URL:https://showcure.com/tcevent/ghosts-of-us-fest-2/
LOCATION:Cafe – Henderson\, 722 W Sunset Rd\, Henderson\, NV\, 89011\, United States
ATTACH;FMTTYPE=image/png:https://showcure.com/wp-content/uploads/2025/10/Screenshot-2025-10-06-at-2.06.44-PM-1.png
END:VEVENT
END:VCALENDAR