BEGIN:VCALENDAR
VERSION:2.0
PRODID:-//Showcure - ECPv6.15.20//NONSGML v1.0//EN
CALSCALE:GREGORIAN
METHOD:PUBLISH
X-WR-CALNAME:Showcure
X-ORIGINAL-URL:https://showcure.com
X-WR-CALDESC:Events for Showcure
REFRESH-INTERVAL;VALUE=DURATION:PT1H
X-Robots-Tag:noindex
X-PUBLISHED-TTL:PT1H
BEGIN:VTIMEZONE
TZID:America/New_York
BEGIN:DAYLIGHT
TZOFFSETFROM:-0500
TZOFFSETTO:-0400
TZNAME:EDT
DTSTART:20240310T070000
END:DAYLIGHT
BEGIN:STANDARD
TZOFFSETFROM:-0400
TZOFFSETTO:-0500
TZNAME:EST
DTSTART:20241103T060000
END:STANDARD
BEGIN:DAYLIGHT
TZOFFSETFROM:-0500
TZOFFSETTO:-0400
TZNAME:EDT
DTSTART:20250309T070000
END:DAYLIGHT
BEGIN:STANDARD
TZOFFSETFROM:-0400
TZOFFSETTO:-0500
TZNAME:EST
DTSTART:20251102T060000
END:STANDARD
BEGIN:DAYLIGHT
TZOFFSETFROM:-0500
TZOFFSETTO:-0400
TZNAME:EDT
DTSTART:20260308T070000
END:DAYLIGHT
BEGIN:STANDARD
TZOFFSETFROM:-0400
TZOFFSETTO:-0500
TZNAME:EST
DTSTART:20261101T060000
END:STANDARD
END:VTIMEZONE
BEGIN:VEVENT
DTSTART;TZID=America/New_York:20251015T190000
DTEND;TZID=America/New_York:20251015T210000
DTSTAMP:20260423T051049
CREATED:20251014T002403Z
LAST-MODIFIED:20251014T002403Z
UID:10000038-1760554800-1760562000@showcure.com
SUMMARY:BLACK SHEEP BOOKING PRESENTS
DESCRIPTION:taverna costera\nWEDNESDAY ON THE ROOF. Smokey Brights (@smokeybrights) with SwitterBeet (@hiswitterbeet)\, Haphazard (@haphazard.lv)\, and Purple Cab (@purplecabband). \nfor ticket information visit posh.vip or visit black sheep booking on instagram!
URL:https://showcure.com/tcevent/black-sheep-booking-presents/
LOCATION:Cafe – Las Vegas\, 1031 S Main St\, Las Vegas\, NV\, 89101\, United States
ATTACH;FMTTYPE=image/png:https://showcure.com/wp-content/uploads/2025/10/Screenshot-2025-10-13-at-5.17.56-PM.png
END:VEVENT
BEGIN:VEVENT
DTSTART;TZID=America/New_York:20251015T190000
DTEND;TZID=America/New_York:20251015T210000
DTSTAMP:20260423T051049
CREATED:20251014T002421Z
LAST-MODIFIED:20251014T002421Z
UID:10000039-1760554800-1760562000@showcure.com
SUMMARY:BLACK SHEEP BOOKING PRESENTS
DESCRIPTION:taverna costera\nWEDNESDAY ON THE ROOF. Smokey Brights (@smokeybrights) with SwitterBeet (@hiswitterbeet)\, Haphazard (@haphazard.lv)\, and Purple Cab (@purplecabband). \nfor ticket information visit posh.vip or visit black sheep booking on instagram!
URL:https://showcure.com/tcevent/black-sheep-booking-presents-2/
LOCATION:Cafe – Las Vegas\, 1031 S Main St\, Las Vegas\, NV\, 89101\, United States
ATTACH;FMTTYPE=image/png:https://showcure.com/wp-content/uploads/2025/10/Screenshot-2025-10-13-at-5.17.56-PM-1.png
END:VEVENT
BEGIN:VEVENT
DTSTART;TZID=America/New_York:20251015T190000
DTEND;TZID=America/New_York:20251015T210000
DTSTAMP:20260423T051049
CREATED:20251014T002726Z
LAST-MODIFIED:20251014T002726Z
UID:10000040-1760554800-1760562000@showcure.com
SUMMARY:BLACK SHEEP BOOKING PRESENTS
DESCRIPTION:taverna costera\nWEDNESDAY ON THE ROOF. Smokey Brights (@smokeybrights) with SwitterBeet (@hiswitterbeet)\, Haphazard (@haphazard.lv)\, and Purple Cab (@purplecabband). \nfor ticket information visit posh.vip or visit black sheep booking on instagram!
URL:https://showcure.com/tcevent/black-sheep-booking-presents-3/
LOCATION:Cafe – Las Vegas\, 1031 S Main St\, Las Vegas\, NV\, 89101\, United States
ATTACH;FMTTYPE=image/png:https://showcure.com/wp-content/uploads/2025/10/Screenshot-2025-10-13-at-5.17.56-PM-2.png
END:VEVENT
BEGIN:VEVENT
DTSTART;TZID=America/New_York:20251017T210000
DTEND;TZID=America/New_York:20251017T230000
DTSTAMP:20260423T051049
CREATED:20251006T220015Z
LAST-MODIFIED:20251006T220015Z
UID:10000037-1760734800-1760742000@showcure.com
SUMMARY:WWWY WARMUP SHOW
DESCRIPTION:FRIDAY 10.17.25 \n@reddwarf_lv is hosting the show
URL:https://showcure.com/tcevent/wwwy-warmup-show/
LOCATION:Cafe – Las Vegas\, 1305 Vegas Valley Dr\, Las Vegas\, NV\, 89169\, United States
ATTACH;FMTTYPE=image/png:https://showcure.com/wp-content/uploads/2025/10/Screenshot-2025-10-06-at-2.56.53-PM.png
END:VEVENT
END:VCALENDAR