BEGIN:VCALENDAR
VERSION:2.0
PRODID:-//Showcure - ECPv6.15.20//NONSGML v1.0//EN
CALSCALE:GREGORIAN
METHOD:PUBLISH
X-ORIGINAL-URL:https://showcure.com
X-WR-CALDESC:Events for Showcure
REFRESH-INTERVAL;VALUE=DURATION:PT1H
X-Robots-Tag:noindex
X-PUBLISHED-TTL:PT1H
BEGIN:VTIMEZONE
TZID:America/New_York
BEGIN:DAYLIGHT
TZOFFSETFROM:-0500
TZOFFSETTO:-0400
TZNAME:EDT
DTSTART:20240310T070000
END:DAYLIGHT
BEGIN:STANDARD
TZOFFSETFROM:-0400
TZOFFSETTO:-0500
TZNAME:EST
DTSTART:20241103T060000
END:STANDARD
BEGIN:DAYLIGHT
TZOFFSETFROM:-0500
TZOFFSETTO:-0400
TZNAME:EDT
DTSTART:20250309T070000
END:DAYLIGHT
BEGIN:STANDARD
TZOFFSETFROM:-0400
TZOFFSETTO:-0500
TZNAME:EST
DTSTART:20251102T060000
END:STANDARD
BEGIN:DAYLIGHT
TZOFFSETFROM:-0500
TZOFFSETTO:-0400
TZNAME:EDT
DTSTART:20260308T070000
END:DAYLIGHT
BEGIN:STANDARD
TZOFFSETFROM:-0400
TZOFFSETTO:-0500
TZNAME:EST
DTSTART:20261101T060000
END:STANDARD
END:VTIMEZONE
BEGIN:VEVENT
DTSTART;TZID=America/New_York:20250924T120000
DTEND;TZID=America/New_York:20250924T140000
DTSTAMP:20260422T125607
CREATED:20250922T211905Z
LAST-MODIFIED:20250922T211905Z
UID:10000023-1758715200-1758722400@showcure.com
SUMMARY:Use this Events To Test
DESCRIPTION:Just for Testing Nothing Serious
URL:https://showcure.com/tcevent/use-this-events-to-test/
LOCATION:Theater – Jackson\, 2130 Jacksonville\, Jackson\, MI\, 12345\, United States
ATTACH;FMTTYPE=image/jpeg:https://showcure.com/wp-content/uploads/2025/09/wallpaperflare_1.com_wallpaper-18.jpg
END:VEVENT
BEGIN:VEVENT
DTSTART;TZID=America/New_York:20250925T120000
DTEND;TZID=America/New_York:20250925T140000
DTSTAMP:20260422T125607
CREATED:20250923T112439Z
LAST-MODIFIED:20250923T112439Z
UID:10000024-1758801600-1758808800@showcure.com
SUMMARY:Decider
DESCRIPTION:We Got this
URL:https://showcure.com/tcevent/decider/
LOCATION:Club – Omaha\, 123 FckinBlind\, Omaha\, KY\, 12312\, United States
ATTACH;FMTTYPE=image/jpeg:https://showcure.com/wp-content/uploads/2025/09/statuss-aC.jpg
END:VEVENT
BEGIN:VEVENT
DTSTART;TZID=America/New_York:20250928T120000
DTEND;TZID=America/New_York:20250928T140000
DTSTAMP:20260422T125607
CREATED:20250927T230943Z
LAST-MODIFIED:20250927T230943Z
UID:10000027-1759060800-1759068000@showcure.com
SUMMARY:Big event
DESCRIPTION:Biiiiiiig event there is
URL:https://showcure.com/tcevent/big-event/
LOCATION:Outdoor – Henderson\, 123 big event\, Henderson\, NV\, 89012\, United States
ATTACH;FMTTYPE=image/jpeg:https://showcure.com/wp-content/uploads/2025/09/IMG_5433.jpeg
END:VEVENT
END:VCALENDAR