BEGIN:VCALENDAR
VERSION:2.0
PRODID:-//Showcure - ECPv6.15.20//NONSGML v1.0//EN
CALSCALE:GREGORIAN
METHOD:PUBLISH
X-ORIGINAL-URL:https://showcure.com
X-WR-CALDESC:Events for Showcure
REFRESH-INTERVAL;VALUE=DURATION:PT1H
X-Robots-Tag:noindex
X-PUBLISHED-TTL:PT1H
BEGIN:VTIMEZONE
TZID:America/New_York
BEGIN:DAYLIGHT
TZOFFSETFROM:-0500
TZOFFSETTO:-0400
TZNAME:EDT
DTSTART:20240310T070000
END:DAYLIGHT
BEGIN:STANDARD
TZOFFSETFROM:-0400
TZOFFSETTO:-0500
TZNAME:EST
DTSTART:20241103T060000
END:STANDARD
BEGIN:DAYLIGHT
TZOFFSETFROM:-0500
TZOFFSETTO:-0400
TZNAME:EDT
DTSTART:20250309T070000
END:DAYLIGHT
BEGIN:STANDARD
TZOFFSETFROM:-0400
TZOFFSETTO:-0500
TZNAME:EST
DTSTART:20251102T060000
END:STANDARD
BEGIN:DAYLIGHT
TZOFFSETFROM:-0500
TZOFFSETTO:-0400
TZNAME:EDT
DTSTART:20260308T070000
END:DAYLIGHT
BEGIN:STANDARD
TZOFFSETFROM:-0400
TZOFFSETTO:-0500
TZNAME:EST
DTSTART:20261101T060000
END:STANDARD
END:VTIMEZONE
BEGIN:VEVENT
DTSTART;TZID=America/New_York:20250910T090000
DTEND;TZID=America/New_York:20250910T110000
DTSTAMP:20260422T184717
CREATED:20250903T082419Z
LAST-MODIFIED:20250903T093727Z
UID:10000014-1757494800-1757502000@showcure.com
SUMMARY:MidNight Strike
DESCRIPTION:This is Midnight Strike From the Streets of Florida All the way to Wisconsin.
URL:https://showcure.com/tcevent/midnight-strike/
LOCATION:All Ages Venue – Leesburg\, 90 E. Somerset Street\, Leesburg\, FL\, 34748\, United States
ATTACH;FMTTYPE=image/jpeg:https://showcure.com/wp-content/uploads/2025/09/fan-art.jpg
END:VEVENT
BEGIN:VEVENT
DTSTART;TZID=America/New_York:20250910T120000
DTEND;TZID=America/New_York:20250910T140000
DTSTAMP:20260422T184717
CREATED:20250830T025340Z
LAST-MODIFIED:20250830T025340Z
UID:10000013-1757505600-1757512800@showcure.com
SUMMARY:yassss
DESCRIPTION:yassssssss
URL:https://showcure.com/tcevent/yassss/
LOCATION:DIY – YASSSSS\, yass street\, YASSSSS\, WY\, 89123\, United States
END:VEVENT
BEGIN:VEVENT
DTSTART;TZID=America/New_York:20250910T120000
DTEND;TZID=America/New_York:20250910T140000
DTSTAMP:20260422T184717
CREATED:20250908T211339Z
LAST-MODIFIED:20250908T211339Z
UID:10000015-1757505600-1757512800@showcure.com
SUMMARY:Test Event Woo
DESCRIPTION:test basic 1 2 3
URL:https://showcure.com/tcevent/test-event-woo/
LOCATION:Outdoor – Jackson\, 123 JacksonWille\, Jackson\, OR\, 12345\, United States
ATTACH;FMTTYPE=image/jpeg:https://showcure.com/wp-content/uploads/2025/09/middle.jpg
END:VEVENT
END:VCALENDAR