BEGIN:VCALENDAR
VERSION:2.0
PRODID:-//Showcure - ECPv6.15.20//NONSGML v1.0//EN
CALSCALE:GREGORIAN
METHOD:PUBLISH
X-ORIGINAL-URL:https://showcure.com
X-WR-CALDESC:Events for Showcure
REFRESH-INTERVAL;VALUE=DURATION:PT1H
X-Robots-Tag:noindex
X-PUBLISHED-TTL:PT1H
BEGIN:VTIMEZONE
TZID:America/New_York
BEGIN:DAYLIGHT
TZOFFSETFROM:-0500
TZOFFSETTO:-0400
TZNAME:EDT
DTSTART:20240310T070000
END:DAYLIGHT
BEGIN:STANDARD
TZOFFSETFROM:-0400
TZOFFSETTO:-0500
TZNAME:EST
DTSTART:20241103T060000
END:STANDARD
BEGIN:DAYLIGHT
TZOFFSETFROM:-0500
TZOFFSETTO:-0400
TZNAME:EDT
DTSTART:20250309T070000
END:DAYLIGHT
BEGIN:STANDARD
TZOFFSETFROM:-0400
TZOFFSETTO:-0500
TZNAME:EST
DTSTART:20251102T060000
END:STANDARD
BEGIN:DAYLIGHT
TZOFFSETFROM:-0500
TZOFFSETTO:-0400
TZNAME:EDT
DTSTART:20260308T070000
END:DAYLIGHT
BEGIN:STANDARD
TZOFFSETFROM:-0400
TZOFFSETTO:-0500
TZNAME:EST
DTSTART:20261101T060000
END:STANDARD
BEGIN:DAYLIGHT
TZOFFSETFROM:-0500
TZOFFSETTO:-0400
TZNAME:EDT
DTSTART:20270314T070000
END:DAYLIGHT
BEGIN:STANDARD
TZOFFSETFROM:-0400
TZOFFSETTO:-0500
TZNAME:EST
DTSTART:20271107T060000
END:STANDARD
END:VTIMEZONE
BEGIN:VEVENT
DTSTART;TZID=America/New_York:20260410T170000
DTEND;TZID=America/New_York:20260410T190000
DTSTAMP:20260421T183637
CREATED:20260301T215124Z
LAST-MODIFIED:20260301T215124Z
UID:10000089-1775840400-1775847600@showcure.com
SUMMARY:In The Absence of Light
DESCRIPTION:memoirenv\nLAS VEGAS\, NV! April 10th\, 2026 @ Eagle Aerie Hall\n@pulsarpresents The “In The Absence Of Light” Tour \nFeaturing: @memoirenv @everglade_us @withinoblivion @aetherealband @teachlvhc @shadowsofmotion @manzanitadeathmarch\n–\nALL AGES | TICKETS: $13 PRE $15 DOS\ntickets at dice.fm
URL:https://showcure.com/tcevent/in-the-absence-of-light-2/
LOCATION:All Ages Venue – Henderson\, 310 Pacific Ave\, Henderson\, NV\, 89015\, United States
ATTACH;FMTTYPE=image/png:https://showcure.com/wp-content/uploads/2026/03/Screenshot-2026-03-01-at-1.47.52-PM-1.png
END:VEVENT
BEGIN:VEVENT
DTSTART;TZID=America/New_York:20260410T170000
DTEND;TZID=America/New_York:20260410T190000
DTSTAMP:20260421T183637
CREATED:20260301T215104Z
LAST-MODIFIED:20260301T215104Z
UID:10000088-1775840400-1775847600@showcure.com
SUMMARY:In The Absence of Light
DESCRIPTION:memoirenv\nLAS VEGAS\, NV! April 10th\, 2026 @ Eagle Aerie Hall\n@pulsarpresents The “In The Absence Of Light” Tour \nFeaturing: @memoirenv @everglade_us @withinoblivion @aetherealband @teachlvhc @shadowsofmotion @manzanitadeathmarch\n–\nALL AGES | TICKETS: $13 PRE $15 DOS\ntickets at dice.fm
URL:https://showcure.com/tcevent/in-the-absence-of-light/
LOCATION:All Ages Venue – Henderson\, 310 Pacific Ave\, Henderson\, NV\, 89015\, United States
ATTACH;FMTTYPE=image/png:https://showcure.com/wp-content/uploads/2026/03/Screenshot-2026-03-01-at-1.47.52-PM.png
END:VEVENT
BEGIN:VEVENT
DTSTART;TZID=America/New_York:20260328T120000
DTEND;TZID=America/New_York:20260328T140000
DTSTAMP:20260421T183637
CREATED:20251105T011522Z
LAST-MODIFIED:20251105T011522Z
UID:10000065-1774699200-1774706400@showcure.com
SUMMARY:Los Darks
DESCRIPTION:(this is by @vivalosdarks on instagram)\nSign up now for the Presale starting Friday\, Nov 7th at 10am PT. Layaway plans available for all ticket types start at $19.99 down.
URL:https://showcure.com/tcevent/los-darks/
LOCATION:Outdoor – Santa Ana\,\, 602 N Flower St\, Santa Ana\,\, CA\, 92703\, United States
ATTACH;FMTTYPE=image/png:https://showcure.com/wp-content/uploads/2025/11/Screenshot-2025-11-04-at-5.13.02-PM.png
END:VEVENT
BEGIN:VEVENT
DTSTART;TZID=America/New_York:20260323T150000
DTEND;TZID=America/New_York:20260323T170000
DTSTAMP:20260421T183637
CREATED:20260301T010217Z
LAST-MODIFIED:20260301T010217Z
UID:10000079-1774278000-1774285200@showcure.com
SUMMARY:Red Dwarf Show / 21+
DESCRIPTION:hosted by: pigeonhatcollective\n3/23 9PM ‼️‼️‼️ BEHOLD ‼️‼️‼️ A FEMME POWER PACKED PUNK LINEUP AT @reddwarf_lv 👽🌼🛰 \nWE ARE BRINGING BACK THE FUN FRIENDLY DANCE PUNK HOMIES @linneasgardenband COMING ALL THE WAY FROM BOSTON\, MA \nWE ALSO HAVE LOCAL PUNK ROCK FAVORITES @motiondetected_band & WONDERFULLY WACKY @vegas_femaliens COMING ALL THE WAY FROM OUTER SPACE 🚀🪐✨️ \nAS ALWAYS\, THERE IS NO COVER FOR THIS SHOW\, SO COME ON DOWN AND START YOUR WEEK OFF RIGHT WITH SOME PIZZA\, BEER\, AND RAGING BOPPARINOS
URL:https://showcure.com/tcevent/red-dwarf-show-21-2/
LOCATION:Cafe – Las Vegas\, 1305 Vegas Valley Dr\, Las Vegas\, NV\, 89169\, United States
ATTACH;FMTTYPE=image/png:https://showcure.com/wp-content/uploads/2026/02/Screenshot-2026-02-28-at-4.59.54-PM-1.png
END:VEVENT
BEGIN:VEVENT
DTSTART;TZID=America/New_York:20260323T150000
DTEND;TZID=America/New_York:20260323T170000
DTSTAMP:20260421T183637
CREATED:20260301T010207Z
LAST-MODIFIED:20260301T010207Z
UID:10000078-1774278000-1774285200@showcure.com
SUMMARY:Red Dwarf Show / 21+
DESCRIPTION:hosted by: pigeonhatcollective\n3/23 9PM ‼️‼️‼️ BEHOLD ‼️‼️‼️ A FEMME POWER PACKED PUNK LINEUP AT @reddwarf_lv 👽🌼🛰 \nWE ARE BRINGING BACK THE FUN FRIENDLY DANCE PUNK HOMIES @linneasgardenband COMING ALL THE WAY FROM BOSTON\, MA \nWE ALSO HAVE LOCAL PUNK ROCK FAVORITES @motiondetected_band & WONDERFULLY WACKY @vegas_femaliens COMING ALL THE WAY FROM OUTER SPACE 🚀🪐✨️ \nAS ALWAYS\, THERE IS NO COVER FOR THIS SHOW\, SO COME ON DOWN AND START YOUR WEEK OFF RIGHT WITH SOME PIZZA\, BEER\, AND RAGING BOPPARINOS
URL:https://showcure.com/tcevent/red-dwarf-show-21/
LOCATION:Cafe – Las Vegas\, 1305 Vegas Valley Dr\, Las Vegas\, NV\, 89169\, United States
ATTACH;FMTTYPE=image/png:https://showcure.com/wp-content/uploads/2026/02/Screenshot-2026-02-28-at-4.59.54-PM.png
END:VEVENT
BEGIN:VEVENT
DTSTART;TZID=America/New_York:20260310T180000
DTEND;TZID=America/New_York:20260310T200000
DTSTAMP:20260421T183637
CREATED:20260301T010602Z
LAST-MODIFIED:20260301T010602Z
UID:10000080-1773165600-1773172800@showcure.com
SUMMARY:Super Screamo Show
DESCRIPTION:vegas.underground\nSuper Screamo Show – Mar10 \nHola Habibi\nAll Ages\n6PM\n$12\, $15\nvegas-underground.com \n@wwfm.band\n@almostnovemberlv\n@sleepdept.band\n@stingrayandthesnarlies \nFlyer: @waybaomusic
URL:https://showcure.com/tcevent/super-screamo-show/
LOCATION:All Ages Venue – Las Vegas\, 1115 S Casino Center Blvd\, Las Vegas\, NV\, 89104\, United States
ATTACH;FMTTYPE=image/png:https://showcure.com/wp-content/uploads/2026/02/Screenshot-2026-02-28-at-5.03.44-PM.png
END:VEVENT
BEGIN:VEVENT
DTSTART;TZID=America/New_York:20260308T170000
DTEND;TZID=America/New_York:20260308T190000
DTSTAMP:20260421T183637
CREATED:20260301T012728Z
LAST-MODIFIED:20260301T012728Z
UID:10000085-1772989200-1772996400@showcure.com
SUMMARY:Area 15
DESCRIPTION:defmass\nSunday March 8th join us for Feedback! Rock show at @area15official Tickets on Eventbrite. \nFeatured bands\n@the_dollheads\n@subsanity_lv\n@tyrantula_official\n@no_off_switch_band\n@rapalasvegas \nArt by @thenivia\nIn partnership with @area15official @thepunkrockmuseum @nvartscouncil\nCurated by @manifest.academy
URL:https://showcure.com/tcevent/area-15-2/
LOCATION:Club – Las Vegas\, 3215 S Rancho Dr\, Las Vegas\, NV\, Las Vegas\, NV\, 89102\, United States
ATTACH;FMTTYPE=image/png:https://showcure.com/wp-content/uploads/2026/02/Screenshot-2026-02-28-at-5.23.02-PM-1.png
END:VEVENT
BEGIN:VEVENT
DTSTART;TZID=America/New_York:20260308T170000
DTEND;TZID=America/New_York:20260308T190000
DTSTAMP:20260421T183637
CREATED:20260301T012646Z
LAST-MODIFIED:20260301T012646Z
UID:10000084-1772989200-1772996400@showcure.com
SUMMARY:Area 15
DESCRIPTION:defmass\nSunday March 8th join us for Feedback! Rock show at @area15official Tickets on Eventbrite. \nFeatured bands\n@the_dollheads\n@subsanity_lv\n@tyrantula_official\n@no_off_switch_band\n@rapalasvegas \nArt by @thenivia\nIn partnership with @area15official @thepunkrockmuseum @nvartscouncil\nCurated by @manifest.academy
URL:https://showcure.com/tcevent/area-15/
LOCATION:Club – Las Vegas\, 3215 S Rancho Dr\, Las Vegas\, NV\, Las Vegas\, NV\, 89102\, United States
ATTACH;FMTTYPE=image/png:https://showcure.com/wp-content/uploads/2026/02/Screenshot-2026-02-28-at-5.23.02-PM.png
END:VEVENT
BEGIN:VEVENT
DTSTART;TZID=America/New_York:20260307T180000
DTEND;TZID=America/New_York:20260307T200000
DTSTAMP:20260421T183637
CREATED:20260301T013716Z
LAST-MODIFIED:20260301T013716Z
UID:10000086-1772906400-1772913600@showcure.com
SUMMARY:Park 2000 Comback Show
DESCRIPTION:vegas.underground\nPark 2000 Comback Show – March 7th \nHola Habibi\n6 PM\nAll Ages\n$5\, $10 \n@park2000.lv\n@malware.2004\n@machinedeath.band\n@theredseaa \nFlier: @poacherdiaries
URL:https://showcure.com/tcevent/park-2000-comback-show/
LOCATION:All Ages Venue – Las Vegas\, 1115 S Casino Center Blvd\, Las Vegas\, NV\, 89104\, United States
ATTACH;FMTTYPE=image/png:https://showcure.com/wp-content/uploads/2026/02/Screenshot-2026-02-28-at-5.35.37-PM.png
END:VEVENT
BEGIN:VEVENT
DTSTART;TZID=America/New_York:20260307T173000
DTEND;TZID=America/New_York:20260307T193000
DTSTAMP:20260421T183637
CREATED:20260301T011025Z
LAST-MODIFIED:20260301T011025Z
UID:10000082-1772904600-1772911800@showcure.com
SUMMARY:Ivy Pacific / Satellite Citi - Live in Vegas
DESCRIPTION:Ivy Pacific / Satellite Citi – Live in Vegas \nTaverna Costera Courtyard\n5:30 PM\nAll Ages\n$12\, $15 \n@ivypacific\n@satelliteciti\n@overbareing\n@lunarchainlv\n@liveatnightlv \nFlyer: @waybaomusic
URL:https://showcure.com/tcevent/ivy-pacific-satellite-citi-live-in-vegas-2/
LOCATION:Cafe – Las Vegas\, 1031 S Main St\, Las Vegas\, NV\, 89101\, United States
ATTACH;FMTTYPE=image/png:https://showcure.com/wp-content/uploads/2026/02/Screenshot-2026-02-28-at-5.08.37-PM-1.png
END:VEVENT
BEGIN:VEVENT
DTSTART;TZID=America/New_York:20260307T173000
DTEND;TZID=America/New_York:20260307T193000
DTSTAMP:20260421T183637
CREATED:20260301T011007Z
LAST-MODIFIED:20260301T011007Z
UID:10000081-1772904600-1772911800@showcure.com
SUMMARY:Ivy Pacific / Satellite Citi - Live in Vegas
DESCRIPTION:Ivy Pacific / Satellite Citi – Live in Vegas \nTaverna Costera Courtyard\n5:30 PM\nAll Ages\n$12\, $15 \n@ivypacific\n@satelliteciti\n@overbareing\n@lunarchainlv\n@liveatnightlv \nFlyer: @waybaomusic
URL:https://showcure.com/tcevent/ivy-pacific-satellite-citi-live-in-vegas/
LOCATION:Cafe – Las Vegas\, 1031 S Main St\, Las Vegas\, NV\, 89101\, United States
ATTACH;FMTTYPE=image/png:https://showcure.com/wp-content/uploads/2026/02/Screenshot-2026-02-28-at-5.08.37-PM.png
END:VEVENT
BEGIN:VEVENT
DTSTART;TZID=America/New_York:20260307T170000
DTEND;TZID=America/New_York:20260307T190000
DTSTAMP:20260421T183637
CREATED:20260301T011916Z
LAST-MODIFIED:20260301T011916Z
UID:10000083-1772902800-1772910000@showcure.com
SUMMARY:THE LOVERS MARKET 1 YEAR ANNIVERSARY… part 1/3
DESCRIPTION:theloversmarket\nTHE LOVERS MARKET 1 YEAR ANNIVERSARY… part 1/3\n[UPDATED LINEUP] \nMarch 7th 🌀 5PM-10PM | ALL AGES\nAT SIDEREAL | DM FOR ADDY\n$8 pre (link in bio) | $10 atd NOTAFLOF 🫀\n(dm theloversmarket on instagram for location and ticket)\nAll ages !!! Which means NO DRUGS NO SMOKING NO ALCOHOL 🐈‍⬛ SUPPORT ALL VENDORS & RESPECT THE VENUE \nFlyer by @dwellingminacity
URL:https://showcure.com/tcevent/the-lovers-market-1-year-anniversary-part-1-3/
LOCATION:All Ages Venue – Las vegas\, unknown\, Las vegas\, NV\, 89012\, United States
ATTACH;FMTTYPE=image/png:https://showcure.com/wp-content/uploads/2026/02/Screenshot-2026-02-28-at-5.17.15-PM.png
END:VEVENT
BEGIN:VEVENT
DTSTART;TZID=America/New_York:20251221T140000
DTEND;TZID=America/New_York:20251221T160000
DTSTAMP:20260421T183637
CREATED:20251105T055230Z
LAST-MODIFIED:20251105T055230Z
UID:10000077-1766325600-1766332800@showcure.com
SUMMARY:F**k CHRISTMAS!
DESCRIPTION:NEW SHOW ALERT 🚨 \nThe mighty FEAR (@fearleevingofficial) return to Alex’s Bar for a Sunday funday matinee 🤘🤘🤘 \n➕ special guests Mike Watt (@wattfrompedro) and The Secondmen\, @lovecanal\, and @robber_gang! \nYou KNOW tickets are gonna sell fast\, get yours today by hitting the link in our bio 🏃‍♀️💨 // Sunday\, December 21st\, 2 pm\, 21+\nTickets at Alexbar.com\nFlyer by @kustomdeluxedesign
URL:https://showcure.com/tcevent/fk-christmas/
LOCATION:Theater – Long Beach\, 2913 E Anaheim St\, Long Beach\, CA\, 90804\, United States
ATTACH;FMTTYPE=image/png:https://showcure.com/wp-content/uploads/2025/11/Screenshot-2025-11-04-at-9.49.19-PM.png
END:VEVENT
BEGIN:VEVENT
DTSTART;TZID=America/New_York:20251213T173000
DTEND;TZID=America/New_York:20251213T193000
DTSTAMP:20260421T183637
CREATED:20251102T232052Z
LAST-MODIFIED:20251102T232052Z
UID:10000051-1765647000-1765654200@showcure.com
SUMMARY:La Palma Presents
DESCRIPTION:Here it is\, the full lineup and the amazing artwork by @valeriemourningstar \n🏜️Día De Los Emptys 4 🤠 \nThis one’s for the community\, for Las Vegas\, and for the music that keeps us all coming back. \nFeaturing:\n🌵 Mexican Slum Rats @mexicanslumrats\n🌵 Floats @floats4uu\n🌵 Los Emptys @losemptys\n🌵 Post NC @post.nc\n🌵 The Rumors @rumorsbandlv \nThrow on your boots\, hats\, fringe\, and denim! We’re going full Western style this year. Come be part of one of Vegas’ most anticipated local music traditions. \nTicket link in bio! \nFriday\, December 13th at Grey Witch @greywitch_lv\nDoors at 5:30PM | All Ages \nTICKET INFORMATION IN @losemptys bio (on instagram)
URL:https://showcure.com/tcevent/la-palma-presents/
LOCATION:Cafe – Henderson\, 722 W Sunset Rd\, Henderson\, NV\, 89011\, United States
ATTACH;FMTTYPE=image/png:https://showcure.com/wp-content/uploads/2025/11/Screenshot-2025-11-02-at-3.17.55-PM.png
END:VEVENT
BEGIN:VEVENT
DTSTART;TZID=America/New_York:20251205T120000
DTEND;TZID=America/New_York:20251205T140000
DTSTAMP:20260421T183637
CREATED:20251105T020156Z
LAST-MODIFIED:20251105T020156Z
UID:10000073-1764936000-1764943200@showcure.com
SUMMARY:KRAMPUS FEST
DESCRIPTION:Posted by-blasphemeboutique\nKRAMPUS FEST DEC 5 AT GREY WITCH. \nVENDOR APPS COMING SOON!
URL:https://showcure.com/tcevent/krampus-fest/
LOCATION:All Ages Venue – Henderson\, 722 W. Sunset Rd\, Henderson\, NV\, 89011\, United States
ATTACH;FMTTYPE=image/png:https://showcure.com/wp-content/uploads/2025/11/Screenshot-2025-11-04-at-5.59.56-PM.png
END:VEVENT
BEGIN:VEVENT
DTSTART;TZID=America/New_York:20251129T210000
DTEND;TZID=America/New_York:20251129T230000
DTSTAMP:20260421T183637
CREATED:20251103T002513Z
LAST-MODIFIED:20251103T002513Z
UID:10000052-1764450000-1764457200@showcure.com
SUMMARY:The Hideaway LV
DESCRIPTION:Anarchy For Assholes @thehideawaylv @reddwarf_lv Saturday\, 11/29/25 8:30pm🎶🎶🎶🎶🎶
URL:https://showcure.com/tcevent/the-hideaway-lv/
LOCATION:Outdoor – Las Vegas\, 1305 Vegas Valley Drive\, Las Vegas\, NV\, 89169\, United States
ATTACH;FMTTYPE=image/png:https://showcure.com/wp-content/uploads/2025/11/Screenshot-2025-11-02-at-4.22.43-PM.png
END:VEVENT
BEGIN:VEVENT
DTSTART;TZID=America/New_York:20251122T210000
DTEND;TZID=America/New_York:20251122T230000
DTSTAMP:20260421T183637
CREATED:20251105T013520Z
LAST-MODIFIED:20251105T013520Z
UID:10000071-1763845200-1763852400@showcure.com
SUMMARY:BRING BACK PROJECT X
DESCRIPTION:posted by-nightlyfe_lv\n🚨 VEGAS… IT’S TIME TO BRING BACK PROJECT X! 🚨\nThis isn’t your average party — this is the wildest rager Sin City’s ever seen!\n💥 Lights. Music. Chaos. Memories you won’t remember but will NEVER forget. \n📅 11.22.25\n9:00 PM\nLOCATION SENT PRIVATELY \nWant The address and ticket link?\nAll you have to do is\nRepost the flyer on your story\nLike this post\nComment “❌” bellow\nAnd follow @nightlyfe_lv \nThe city won’t sleep after this one 😈\nTag your squad\, repost the flyer\, and get ready for the night of your life. \n#NightLyfeLV #ProjectXVegas #VegasTakeover
URL:https://showcure.com/tcevent/bring-back-project-x/
LOCATION:Outdoor – Las Vegas\, 1\, Las Vegas\, NV\, 89012\, United States
ATTACH;FMTTYPE=image/png:https://showcure.com/wp-content/uploads/2025/11/Screenshot-2025-11-04-at-5.32.53-PM.png
END:VEVENT
BEGIN:VEVENT
DTSTART;TZID=America/New_York:20251122T180000
DTEND;TZID=America/New_York:20251122T200000
DTSTAMP:20260421T183637
CREATED:20251103T003701Z
LAST-MODIFIED:20251103T003701Z
UID:10000054-1763834400-1763841600@showcure.com
SUMMARY:Patrick & lvb
DESCRIPTION:Las Vegas! Nov 22nd at The Space. All Ages show. Don’t miss it! Ticket link in bio. \nMORE INFO AT THESPACELV.COM
URL:https://showcure.com/tcevent/patrick-lvb/
LOCATION:Outdoor – Las Vegas\, 3460 Cavaretta Ct\, Las Vegas\, NV\, 89103\, United States
ATTACH;FMTTYPE=image/png:https://showcure.com/wp-content/uploads/2025/11/Screenshot-2025-11-02-at-4.34.23-PM.png
END:VEVENT
BEGIN:VEVENT
DTSTART;TZID=America/New_York:20251122T170000
DTEND;TZID=America/New_York:20251122T190000
DTSTAMP:20260421T183637
CREATED:20251105T053543Z
LAST-MODIFIED:20251105T053543Z
UID:10000074-1763830800-1763838000@showcure.com
SUMMARY:SQUABFEST
DESCRIPTION:SQUABFEST IS BACK Y’ALL ✨️\nAND WE GOT A ***STACKED*** LINEUP FOR YOU~ THIS YEAR WE’RE TEAMING UP WITH @vegas.underground AND OUR IN-HOUSE PARTNERS @vegasaudiorentals TO BRING YOU THE GOODS 🎶 \nJOIN US FOR AN EVENING OF GREAT MUSIC\, GOOD FOOD\, CARNIVAL SHENANIGANS\, LOCAL ART VENDORS\, WAYS TO GET INVOLVED IN YOUR COMMUNITY\, AND MORE 🏑‼️🤡‼️🎯 \nWE’RE STOKED TO BE HAVING @nosurpriseslv @quityerwhininlv @thepatternslv @trashanimalsband JOINING US\, THE NEWLY TRANSFORMED @drowningspree \, AND @tvmomsband HAILING ALL THE WAY FROM NYC GRACING OUR STAGE \nONLY 10/DOOR \nSEE YOU ON 11/22 🎶🪕🎵🎸🥁 \n🎨 @aeriast
URL:https://showcure.com/tcevent/squabfest/
LOCATION:Outdoor – Las Vegas\, 7755 Placid St\, Las Vegas\, NV\, 89123\, United States
ATTACH;FMTTYPE=image/png:https://showcure.com/wp-content/uploads/2025/11/Screenshot-2025-11-04-at-9.32.18-PM.png
END:VEVENT
BEGIN:VEVENT
DTSTART;TZID=America/New_York:20251116T190000
DTEND;TZID=America/New_York:20251116T210000
DTSTAMP:20260421T183637
CREATED:20251105T011018Z
LAST-MODIFIED:20251105T011018Z
UID:10000063-1763319600-1763326800@showcure.com
SUMMARY:legacyconcerts.co & 317 Shows Present
DESCRIPTION:SUNDAY\, NOVEMBER 16 AT THE HOOSIER DOME. LESS THAN TWO WEEKS AWAY!!!\n@legacyconcerts.co & 317 Shows Present:\nSTATESIDE’S RETURN TO INDIANAPOLIS. CALIFORNIA EMO POWERHOUSE HITS HD ALONGSIDE A STACKED LINEUP. COME SING ALONG.\n•\n@statesideca (California Emo)\n@velocity.hc (Bloomington Hardcore)\n@tatakaeband (Indy Emo)\n@mourning.star.band (Bloomington Shoegaze / Emo)\n•\nALL AGES.\n$16 ADV. $18 DOS.\nSEE YOU THERE.
URL:https://showcure.com/tcevent/legacyconcerts-co-317-shows-present/
LOCATION:All Ages Venue – Indianapolis\, 1627 Prospect St Central\, Indianapolis\, IN\, 46203\, United States
ATTACH;FMTTYPE=image/png:https://showcure.com/wp-content/uploads/2025/11/Screenshot-2025-11-04-at-5.05.28-PM.png
END:VEVENT
BEGIN:VEVENT
DTSTART;TZID=America/New_York:20251116T140000
DTEND;TZID=America/New_York:20251116T160000
DTSTAMP:20260421T183637
CREATED:20251105T053912Z
LAST-MODIFIED:20251105T053912Z
UID:10000075-1763301600-1763308800@showcure.com
SUMMARY:Brew and House Coffee Party
DESCRIPTION:las vegas\, start your engines. \nwe are making our way to las vegas for a pre F1 coffee party powered by @corsacoffeelv @vssrvegas @redbull \ncome support local vendors\, biggest djs\, and be a part of the best community. see you there. \n11.16.25 | 11-2pm | link in bio for tix\n(in the bio of @brewandhouse.co on instagram)
URL:https://showcure.com/tcevent/brew-and-house-coffee-party/
LOCATION:DIY – Las Vegas\, 3341 S Sammy Davis Jr Dr\, Las Vegas\, NV\, 89109\, United States
ATTACH;FMTTYPE=image/png:https://showcure.com/wp-content/uploads/2025/11/Screenshot-2025-11-04-at-9.36.13-PM.png
END:VEVENT
BEGIN:VEVENT
DTSTART;TZID=America/New_York:20251115T210000
DTEND;TZID=America/New_York:20251115T230000
DTSTAMP:20260421T183637
CREATED:20251105T011922Z
LAST-MODIFIED:20251105T011922Z
UID:10000066-1763240400-1763247600@showcure.com
SUMMARY:Thorazine Work Party
DESCRIPTION:N/A\nshow was posted by (@thorazineworkparty) on instagram
URL:https://showcure.com/tcevent/thorazine-work-party/
LOCATION:Cafe – Las Vegas\, 1305 Vegas Valley Dr\, Las Vegas\, NV\, 89169\, United States
ATTACH;FMTTYPE=image/png:https://showcure.com/wp-content/uploads/2025/11/Screenshot-2025-11-04-at-5.16.28-PM.png
END:VEVENT
BEGIN:VEVENT
DTSTART;TZID=America/New_York:20251115T200000
DTEND;TZID=America/New_York:20251115T220000
DTSTAMP:20260421T183637
CREATED:20251105T054832Z
LAST-MODIFIED:20251105T054832Z
UID:10000076-1763236800-1763244000@showcure.com
SUMMARY:Road Dogs Tour
DESCRIPTION:@thesurfrajettes are bringing the Road Dogs tour to Alex’s Bar and you don’t wanna miss it 🏄‍♀️🎸 \nWith special guests @bethlehemshalom and @3lh_official 🌟 \nSaturday\, November 15th\, 8 pm\, 21+ // Swoop up your tix TODAY by heading to the link in our bio!
URL:https://showcure.com/tcevent/road-dogs-tour/
LOCATION:Theater – Long Beach\, 2913 E Anaheim St\, Long Beach\, CA\, 90804\, United States
ATTACH;FMTTYPE=image/png:https://showcure.com/wp-content/uploads/2025/11/Screenshot-2025-11-04-at-9.45.27-PM.png
END:VEVENT
BEGIN:VEVENT
DTSTART;TZID=America/New_York:20251115T173000
DTEND;TZID=America/New_York:20251115T193000
DTSTAMP:20260421T183637
CREATED:20251105T012623Z
LAST-MODIFIED:20251105T012623Z
UID:10000068-1763227800-1763235000@showcure.com
SUMMARY:Free Acoustic Show
DESCRIPTION:posted by-vegas.underground\nIt’s our THIRD FREEEEEEE Acoustic Show!\nNov 15th at @nevadaclimbingcenter \nand our first free acoustic show to feature a touring band thanks to @iwishpeoplelovedmeforme \nAll Ages\n$0.00\n5:30 PM\n3065 E Patrick Lane\, LV \n@iwishpeoplelovedmeforme\n@almostnovemberlv\n@turningawayv\n@manofwhatseason\n@hartencia_caida
URL:https://showcure.com/tcevent/free-acoustic-show-2/
LOCATION:All Ages Venue – Las Vegas\, 3065 E Patrick Ln #4\, Las Vegas\, NV\, 89120\, United States
ATTACH;FMTTYPE=image/png:https://showcure.com/wp-content/uploads/2025/11/Screenshot-2025-11-04-at-5.22.43-PM-1.png
END:VEVENT
BEGIN:VEVENT
DTSTART;TZID=America/New_York:20251115T173000
DTEND;TZID=America/New_York:20251115T193000
DTSTAMP:20260421T183637
CREATED:20251105T012612Z
LAST-MODIFIED:20251105T012612Z
UID:10000067-1763227800-1763235000@showcure.com
SUMMARY:Free Acoustic Show
DESCRIPTION:posted by-vegas.underground\nIt’s our THIRD FREEEEEEE Acoustic Show!\nNov 15th at @nevadaclimbingcenter \nand our first free acoustic show to feature a touring band thanks to @iwishpeoplelovedmeforme \nAll Ages\n$0.00\n5:30 PM\n3065 E Patrick Lane\, LV \n@iwishpeoplelovedmeforme\n@almostnovemberlv\n@turningawayv\n@manofwhatseason\n@hartencia_caida
URL:https://showcure.com/tcevent/free-acoustic-show/
LOCATION:All Ages Venue – Las Vegas\, 3065 E Patrick Ln #4\, Las Vegas\, NV\, 89120\, United States
ATTACH;FMTTYPE=image/png:https://showcure.com/wp-content/uploads/2025/11/Screenshot-2025-11-04-at-5.22.43-PM.png
END:VEVENT
BEGIN:VEVENT
DTSTART;TZID=America/New_York:20251115T120000
DTEND;TZID=America/New_York:20251115T140000
DTSTAMP:20260421T183637
CREATED:20251102T225413Z
LAST-MODIFIED:20251102T225413Z
UID:10000046-1763208000-1763215200@showcure.com
SUMMARY:RedDwarf show
DESCRIPTION:Nov. 13th at Red Dwarf with No Surprises & Jesus Christ Taxi Driver (from Colorado saw these guys a few years back and they ROCK!) We’ll have new merch available. FREE SHOW! \nreach out to @reddwarf_lv on instagram for any questions or concerns\, there was only a Half banner posted by them so reach out for more info 🙂
URL:https://showcure.com/tcevent/reddwarf-show/
LOCATION:Cafe – Las Vegas\, 1305 Vegas Valley Dr\, Las Vegas\, NV\, 89169\, United States
ATTACH;FMTTYPE=image/png:https://showcure.com/wp-content/uploads/2025/11/Screenshot-2025-11-02-at-2.49.54-PM.png
END:VEVENT
BEGIN:VEVENT
DTSTART;TZID=America/New_York:20251114T180000
DTEND;TZID=America/New_York:20251114T200000
DTSTAMP:20260421T183637
CREATED:20251105T012912Z
LAST-MODIFIED:20251105T012912Z
UID:10000069-1763143200-1763150400@showcure.com
SUMMARY:Las Vegas Premier market
DESCRIPTION:posted by-\nmarketmacabrelv\nTen days away friends!! Please scare\, we mean share the flyer!! Dust off those pumpkins we’re not done spooking yet!! November 14th at @greywitch_lv
URL:https://showcure.com/tcevent/las-vegas-premier-market/
LOCATION:All Ages Venue – Henderson\, 722 W. Sunset Rd\, Henderson\, NV\, 89011\, United States
ATTACH;FMTTYPE=image/png:https://showcure.com/wp-content/uploads/2025/11/Screenshot-2025-11-04-at-5.27.22-PM.png
END:VEVENT
BEGIN:VEVENT
DTSTART;TZID=America/New_York:20251112T190000
DTEND;TZID=America/New_York:20251112T210000
DTSTAMP:20260421T183637
CREATED:20251103T004645Z
LAST-MODIFIED:20251103T004645Z
UID:10000055-1762974000-1762981200@showcure.com
SUMMARY:The Jins With APPLESEED
DESCRIPTION:drifting. It’s in our blood. When you find yourself drifting from city to city\, living your life a quarter mile at a time theres only one thing you can possibly be- a drifter. It takes a certain drive to perfect the art of drifting\, and we’re excited to announce our handpicked team of elite drifters @cheerleaderroadkill @moonrulesapply_chi @skatingpolly @ursludgemommy and @alexvile_ who will be joining us on our voyage across North America this fall. \nLife’s simple\, you make choices and you don’t look back. So make sure to grab your tickets through the link in the bio\, and always remember\, we’re family here #drifters #thejins #ustour #canadatour \nCheck them out on insta for ticket information!
URL:https://showcure.com/tcevent/the-jins-with-appleseed/
LOCATION:Outdoor – Las Vegas\, 515 S 6th St\, Las Vegas\, NV\, 89101\, United States
ATTACH;FMTTYPE=image/png:https://showcure.com/wp-content/uploads/2025/11/Screenshot-2025-11-02-at-4.41.57-PM.png
END:VEVENT
BEGIN:VEVENT
DTSTART;TZID=America/New_York:20251109T170000
DTEND;TZID=America/New_York:20251109T190000
DTSTAMP:20260421T183637
CREATED:20251105T015900Z
LAST-MODIFIED:20251105T015900Z
UID:10000072-1762707600-1762714800@showcure.com
SUMMARY:Community Care Event
DESCRIPTION:All Ages\nfood drive\nand so much more!
URL:https://showcure.com/tcevent/community-care-event/
LOCATION:Outdoor – Henderson\, 234 Zinc St\, Henderson\, NV\, 89015\, United States
ATTACH;FMTTYPE=image/jpeg:https://showcure.com/wp-content/uploads/2025/11/IMG_6488.jpg
END:VEVENT
BEGIN:VEVENT
DTSTART;TZID=America/New_York:20251108T210000
DTEND;TZID=America/New_York:20251108T230000
DTSTAMP:20260421T183637
CREATED:20251102T231143Z
LAST-MODIFIED:20251102T231143Z
UID:10000050-1762635600-1762642800@showcure.com
SUMMARY:BONGINATOR ALBUM RELEASE TOUR
DESCRIPTION:🔥JUST ANNOUNCED🔥 Tickets for BONGINATOR with NO/MAS & SWAMPGRAVE are onsale NOW! $15 🎟️ if you get them in advance at SANTOSBAR.COM! Doors at 9PM / 21+ @santosbarnola @bonginator.ma @nomasgrind @swampgrave \nBonginator are about weed and death metal\, which may sound reductive\, but that simplicity is part of their appeal. They play straightforward death metal about smoking weed with aliens\, going back in time to save the world by smoking weed\, and partying with zombies who smoke weed. Evidently\, the third piece of the Boston death metal band’s puzzle is humor. However\, beneath all that is Erik Thorstenn\, Bongintaor’s guitarist and vocalist who’s obsessed with the music-making process.
URL:https://showcure.com/tcevent/bonginator-album-release-tour-2/
LOCATION:Shop – New Orleans\, 1135 Decatur St\, New Orleans\, LA\, 70116\, United States
ATTACH;FMTTYPE=image/png:https://showcure.com/wp-content/uploads/2025/11/Screenshot-2025-11-02-at-3.08.08-PM-1.png
END:VEVENT
END:VCALENDAR