BEGIN:VCALENDAR
VERSION:2.0
PRODID:-//Showcure - ECPv6.15.20//NONSGML v1.0//EN
CALSCALE:GREGORIAN
METHOD:PUBLISH
X-WR-CALNAME:Showcure
X-ORIGINAL-URL:https://showcure.com
X-WR-CALDESC:Events for Showcure
REFRESH-INTERVAL;VALUE=DURATION:PT1H
X-Robots-Tag:noindex
X-PUBLISHED-TTL:PT1H
BEGIN:VTIMEZONE
TZID:America/New_York
BEGIN:DAYLIGHT
TZOFFSETFROM:-0500
TZOFFSETTO:-0400
TZNAME:EDT
DTSTART:20250309T070000
END:DAYLIGHT
BEGIN:STANDARD
TZOFFSETFROM:-0400
TZOFFSETTO:-0500
TZNAME:EST
DTSTART:20251102T060000
END:STANDARD
BEGIN:DAYLIGHT
TZOFFSETFROM:-0500
TZOFFSETTO:-0400
TZNAME:EDT
DTSTART:20260308T070000
END:DAYLIGHT
BEGIN:STANDARD
TZOFFSETFROM:-0400
TZOFFSETTO:-0500
TZNAME:EST
DTSTART:20261101T060000
END:STANDARD
BEGIN:DAYLIGHT
TZOFFSETFROM:-0500
TZOFFSETTO:-0400
TZNAME:EDT
DTSTART:20270314T070000
END:DAYLIGHT
BEGIN:STANDARD
TZOFFSETFROM:-0400
TZOFFSETTO:-0500
TZNAME:EST
DTSTART:20271107T060000
END:STANDARD
END:VTIMEZONE
BEGIN:VEVENT
DTSTART;TZID=America/New_York:20260307T170000
DTEND;TZID=America/New_York:20260307T190000
DTSTAMP:20260421T104727
CREATED:20260301T011916Z
LAST-MODIFIED:20260301T011916Z
UID:10000083-1772902800-1772910000@showcure.com
SUMMARY:THE LOVERS MARKET 1 YEAR ANNIVERSARY… part 1/3
DESCRIPTION:theloversmarket\nTHE LOVERS MARKET 1 YEAR ANNIVERSARY… part 1/3\n[UPDATED LINEUP] \nMarch 7th 🌀 5PM-10PM | ALL AGES\nAT SIDEREAL | DM FOR ADDY\n$8 pre (link in bio) | $10 atd NOTAFLOF 🫀\n(dm theloversmarket on instagram for location and ticket)\nAll ages !!! Which means NO DRUGS NO SMOKING NO ALCOHOL 🐈‍⬛ SUPPORT ALL VENDORS & RESPECT THE VENUE \nFlyer by @dwellingminacity
URL:https://showcure.com/tcevent/the-lovers-market-1-year-anniversary-part-1-3/
LOCATION:All Ages Venue – Las vegas\, unknown\, Las vegas\, NV\, 89012\, United States
ATTACH;FMTTYPE=image/png:https://showcure.com/wp-content/uploads/2026/02/Screenshot-2026-02-28-at-5.17.15-PM.png
END:VEVENT
BEGIN:VEVENT
DTSTART;TZID=America/New_York:20260307T173000
DTEND;TZID=America/New_York:20260307T193000
DTSTAMP:20260421T104727
CREATED:20260301T011007Z
LAST-MODIFIED:20260301T011007Z
UID:10000081-1772904600-1772911800@showcure.com
SUMMARY:Ivy Pacific / Satellite Citi - Live in Vegas
DESCRIPTION:Ivy Pacific / Satellite Citi – Live in Vegas \nTaverna Costera Courtyard\n5:30 PM\nAll Ages\n$12\, $15 \n@ivypacific\n@satelliteciti\n@overbareing\n@lunarchainlv\n@liveatnightlv \nFlyer: @waybaomusic
URL:https://showcure.com/tcevent/ivy-pacific-satellite-citi-live-in-vegas/
LOCATION:Cafe – Las Vegas\, 1031 S Main St\, Las Vegas\, NV\, 89101\, United States
ATTACH;FMTTYPE=image/png:https://showcure.com/wp-content/uploads/2026/02/Screenshot-2026-02-28-at-5.08.37-PM.png
END:VEVENT
BEGIN:VEVENT
DTSTART;TZID=America/New_York:20260307T173000
DTEND;TZID=America/New_York:20260307T193000
DTSTAMP:20260421T104727
CREATED:20260301T011025Z
LAST-MODIFIED:20260301T011025Z
UID:10000082-1772904600-1772911800@showcure.com
SUMMARY:Ivy Pacific / Satellite Citi - Live in Vegas
DESCRIPTION:Ivy Pacific / Satellite Citi – Live in Vegas \nTaverna Costera Courtyard\n5:30 PM\nAll Ages\n$12\, $15 \n@ivypacific\n@satelliteciti\n@overbareing\n@lunarchainlv\n@liveatnightlv \nFlyer: @waybaomusic
URL:https://showcure.com/tcevent/ivy-pacific-satellite-citi-live-in-vegas-2/
LOCATION:Cafe – Las Vegas\, 1031 S Main St\, Las Vegas\, NV\, 89101\, United States
ATTACH;FMTTYPE=image/png:https://showcure.com/wp-content/uploads/2026/02/Screenshot-2026-02-28-at-5.08.37-PM-1.png
END:VEVENT
BEGIN:VEVENT
DTSTART;TZID=America/New_York:20260307T180000
DTEND;TZID=America/New_York:20260307T200000
DTSTAMP:20260421T104727
CREATED:20260301T013716Z
LAST-MODIFIED:20260301T013716Z
UID:10000086-1772906400-1772913600@showcure.com
SUMMARY:Park 2000 Comback Show
DESCRIPTION:vegas.underground\nPark 2000 Comback Show – March 7th \nHola Habibi\n6 PM\nAll Ages\n$5\, $10 \n@park2000.lv\n@malware.2004\n@machinedeath.band\n@theredseaa \nFlier: @poacherdiaries
URL:https://showcure.com/tcevent/park-2000-comback-show/
LOCATION:All Ages Venue – Las Vegas\, 1115 S Casino Center Blvd\, Las Vegas\, NV\, 89104\, United States
ATTACH;FMTTYPE=image/png:https://showcure.com/wp-content/uploads/2026/02/Screenshot-2026-02-28-at-5.35.37-PM.png
END:VEVENT
BEGIN:VEVENT
DTSTART;TZID=America/New_York:20260308T170000
DTEND;TZID=America/New_York:20260308T190000
DTSTAMP:20260421T104727
CREATED:20260301T012646Z
LAST-MODIFIED:20260301T012646Z
UID:10000084-1772989200-1772996400@showcure.com
SUMMARY:Area 15
DESCRIPTION:defmass\nSunday March 8th join us for Feedback! Rock show at @area15official Tickets on Eventbrite. \nFeatured bands\n@the_dollheads\n@subsanity_lv\n@tyrantula_official\n@no_off_switch_band\n@rapalasvegas \nArt by @thenivia\nIn partnership with @area15official @thepunkrockmuseum @nvartscouncil\nCurated by @manifest.academy
URL:https://showcure.com/tcevent/area-15/
LOCATION:Club – Las Vegas\, 3215 S Rancho Dr\, Las Vegas\, NV\, Las Vegas\, NV\, 89102\, United States
ATTACH;FMTTYPE=image/png:https://showcure.com/wp-content/uploads/2026/02/Screenshot-2026-02-28-at-5.23.02-PM.png
END:VEVENT
BEGIN:VEVENT
DTSTART;TZID=America/New_York:20260308T170000
DTEND;TZID=America/New_York:20260308T190000
DTSTAMP:20260421T104727
CREATED:20260301T012728Z
LAST-MODIFIED:20260301T012728Z
UID:10000085-1772989200-1772996400@showcure.com
SUMMARY:Area 15
DESCRIPTION:defmass\nSunday March 8th join us for Feedback! Rock show at @area15official Tickets on Eventbrite. \nFeatured bands\n@the_dollheads\n@subsanity_lv\n@tyrantula_official\n@no_off_switch_band\n@rapalasvegas \nArt by @thenivia\nIn partnership with @area15official @thepunkrockmuseum @nvartscouncil\nCurated by @manifest.academy
URL:https://showcure.com/tcevent/area-15-2/
LOCATION:Club – Las Vegas\, 3215 S Rancho Dr\, Las Vegas\, NV\, Las Vegas\, NV\, 89102\, United States
ATTACH;FMTTYPE=image/png:https://showcure.com/wp-content/uploads/2026/02/Screenshot-2026-02-28-at-5.23.02-PM-1.png
END:VEVENT
BEGIN:VEVENT
DTSTART;TZID=America/New_York:20260310T180000
DTEND;TZID=America/New_York:20260310T200000
DTSTAMP:20260421T104727
CREATED:20260301T010602Z
LAST-MODIFIED:20260301T010602Z
UID:10000080-1773165600-1773172800@showcure.com
SUMMARY:Super Screamo Show
DESCRIPTION:vegas.underground\nSuper Screamo Show – Mar10 \nHola Habibi\nAll Ages\n6PM\n$12\, $15\nvegas-underground.com \n@wwfm.band\n@almostnovemberlv\n@sleepdept.band\n@stingrayandthesnarlies \nFlyer: @waybaomusic
URL:https://showcure.com/tcevent/super-screamo-show/
LOCATION:All Ages Venue – Las Vegas\, 1115 S Casino Center Blvd\, Las Vegas\, NV\, 89104\, United States
ATTACH;FMTTYPE=image/png:https://showcure.com/wp-content/uploads/2026/02/Screenshot-2026-02-28-at-5.03.44-PM.png
END:VEVENT
BEGIN:VEVENT
DTSTART;TZID=America/New_York:20260323T150000
DTEND;TZID=America/New_York:20260323T170000
DTSTAMP:20260421T104727
CREATED:20260301T010207Z
LAST-MODIFIED:20260301T010207Z
UID:10000078-1774278000-1774285200@showcure.com
SUMMARY:Red Dwarf Show / 21+
DESCRIPTION:hosted by: pigeonhatcollective\n3/23 9PM ‼️‼️‼️ BEHOLD ‼️‼️‼️ A FEMME POWER PACKED PUNK LINEUP AT @reddwarf_lv 👽🌼🛰 \nWE ARE BRINGING BACK THE FUN FRIENDLY DANCE PUNK HOMIES @linneasgardenband COMING ALL THE WAY FROM BOSTON\, MA \nWE ALSO HAVE LOCAL PUNK ROCK FAVORITES @motiondetected_band & WONDERFULLY WACKY @vegas_femaliens COMING ALL THE WAY FROM OUTER SPACE 🚀🪐✨️ \nAS ALWAYS\, THERE IS NO COVER FOR THIS SHOW\, SO COME ON DOWN AND START YOUR WEEK OFF RIGHT WITH SOME PIZZA\, BEER\, AND RAGING BOPPARINOS
URL:https://showcure.com/tcevent/red-dwarf-show-21/
LOCATION:Cafe – Las Vegas\, 1305 Vegas Valley Dr\, Las Vegas\, NV\, 89169\, United States
ATTACH;FMTTYPE=image/png:https://showcure.com/wp-content/uploads/2026/02/Screenshot-2026-02-28-at-4.59.54-PM.png
END:VEVENT
BEGIN:VEVENT
DTSTART;TZID=America/New_York:20260323T150000
DTEND;TZID=America/New_York:20260323T170000
DTSTAMP:20260421T104727
CREATED:20260301T010217Z
LAST-MODIFIED:20260301T010217Z
UID:10000079-1774278000-1774285200@showcure.com
SUMMARY:Red Dwarf Show / 21+
DESCRIPTION:hosted by: pigeonhatcollective\n3/23 9PM ‼️‼️‼️ BEHOLD ‼️‼️‼️ A FEMME POWER PACKED PUNK LINEUP AT @reddwarf_lv 👽🌼🛰 \nWE ARE BRINGING BACK THE FUN FRIENDLY DANCE PUNK HOMIES @linneasgardenband COMING ALL THE WAY FROM BOSTON\, MA \nWE ALSO HAVE LOCAL PUNK ROCK FAVORITES @motiondetected_band & WONDERFULLY WACKY @vegas_femaliens COMING ALL THE WAY FROM OUTER SPACE 🚀🪐✨️ \nAS ALWAYS\, THERE IS NO COVER FOR THIS SHOW\, SO COME ON DOWN AND START YOUR WEEK OFF RIGHT WITH SOME PIZZA\, BEER\, AND RAGING BOPPARINOS
URL:https://showcure.com/tcevent/red-dwarf-show-21-2/
LOCATION:Cafe – Las Vegas\, 1305 Vegas Valley Dr\, Las Vegas\, NV\, 89169\, United States
ATTACH;FMTTYPE=image/png:https://showcure.com/wp-content/uploads/2026/02/Screenshot-2026-02-28-at-4.59.54-PM-1.png
END:VEVENT
BEGIN:VEVENT
DTSTART;TZID=America/New_York:20260328T120000
DTEND;TZID=America/New_York:20260328T140000
DTSTAMP:20260421T104727
CREATED:20251105T011522Z
LAST-MODIFIED:20251105T011522Z
UID:10000065-1774699200-1774706400@showcure.com
SUMMARY:Los Darks
DESCRIPTION:(this is by @vivalosdarks on instagram)\nSign up now for the Presale starting Friday\, Nov 7th at 10am PT. Layaway plans available for all ticket types start at $19.99 down.
URL:https://showcure.com/tcevent/los-darks/
LOCATION:Outdoor – Santa Ana\,\, 602 N Flower St\, Santa Ana\,\, CA\, 92703\, United States
ATTACH;FMTTYPE=image/png:https://showcure.com/wp-content/uploads/2025/11/Screenshot-2025-11-04-at-5.13.02-PM.png
END:VEVENT
END:VCALENDAR