BEGIN:VCALENDAR
VERSION:2.0
PRODID:-//Showcure - ECPv6.15.20//NONSGML v1.0//EN
CALSCALE:GREGORIAN
METHOD:PUBLISH
X-WR-CALNAME:Showcure
X-ORIGINAL-URL:https://showcure.com
X-WR-CALDESC:Events for Showcure
REFRESH-INTERVAL;VALUE=DURATION:PT1H
X-Robots-Tag:noindex
X-PUBLISHED-TTL:PT1H
BEGIN:VTIMEZONE
TZID:America/New_York
BEGIN:DAYLIGHT
TZOFFSETFROM:-0500
TZOFFSETTO:-0400
TZNAME:EDT
DTSTART:20240310T070000
END:DAYLIGHT
BEGIN:STANDARD
TZOFFSETFROM:-0400
TZOFFSETTO:-0500
TZNAME:EST
DTSTART:20241103T060000
END:STANDARD
BEGIN:DAYLIGHT
TZOFFSETFROM:-0500
TZOFFSETTO:-0400
TZNAME:EDT
DTSTART:20250309T070000
END:DAYLIGHT
BEGIN:STANDARD
TZOFFSETFROM:-0400
TZOFFSETTO:-0500
TZNAME:EST
DTSTART:20251102T060000
END:STANDARD
BEGIN:DAYLIGHT
TZOFFSETFROM:-0500
TZOFFSETTO:-0400
TZNAME:EDT
DTSTART:20260308T070000
END:DAYLIGHT
BEGIN:STANDARD
TZOFFSETFROM:-0400
TZOFFSETTO:-0500
TZNAME:EST
DTSTART:20261101T060000
END:STANDARD
END:VTIMEZONE
BEGIN:VEVENT
DTSTART;TZID=America/New_York:20251025T020000
DTEND;TZID=America/New_York:20251025T040000
DTSTAMP:20260423T155547
CREATED:20251006T212037Z
LAST-MODIFIED:20251006T212037Z
UID:10000034-1761357600-1761364800@showcure.com
SUMMARY:GHOSTS OF US FEST
DESCRIPTION:HOSTED BY: @RiyahBooking\n(TICKET INSTRUCTIONS ON FLYER!) \nPresented by Grey Witch & RIYAH Booking…\nGHOSTS OF US FEST\nOct 25th 2-10pm All Ages\nFeaturing 10 live performance acts and vendors!\nTicket Link in Bio \nRIYAH Booking and all performance acts have agreed to donate their portion of the ticket sales to an amazing organization called The Cupcake Girls @cupcakegirlsorg \n“Mission: The Cupcake Girls provides confidential support to those involved in the sex industry\, as well as trauma-informed outreach\, advocacy\, holistic resources\, and referral services to provide prevention and aftercare to those affected by sex trafficking. \nWe provide nonjudgmental support to empower our program participants in their pursuits through respect\, resources\, and relationships.” \nCome to rock out to these sick bands\, check out the amazing vendors (announcing soon)\, and donate to a good cause. 👻 \nFlyer Artist: @charlenewco 🎨\nSong: Get Out of My Scene by @wemightdie.theband 🎶
URL:https://showcure.com/tcevent/ghosts-of-us-fest-2/
LOCATION:Cafe – Henderson\, 722 W Sunset Rd\, Henderson\, NV\, 89011\, United States
ATTACH;FMTTYPE=image/png:https://showcure.com/wp-content/uploads/2025/10/Screenshot-2025-10-06-at-2.06.44-PM-1.png
END:VEVENT
BEGIN:VEVENT
DTSTART;TZID=America/New_York:20251025T020000
DTEND;TZID=America/New_York:20251025T040000
DTSTAMP:20260423T155547
CREATED:20251006T212016Z
LAST-MODIFIED:20251006T212016Z
UID:10000033-1761357600-1761364800@showcure.com
SUMMARY:GHOSTS OF US FEST
DESCRIPTION:HOSTED BY: @RiyahBooking\n(TICKET INSTRUCTIONS ON FLYER!) \nPresented by Grey Witch & RIYAH Booking…\nGHOSTS OF US FEST\nOct 25th 2-10pm All Ages\nFeaturing 10 live performance acts and vendors!\nTicket Link in Bio \nRIYAH Booking and all performance acts have agreed to donate their portion of the ticket sales to an amazing organization called The Cupcake Girls @cupcakegirlsorg \n“Mission: The Cupcake Girls provides confidential support to those involved in the sex industry\, as well as trauma-informed outreach\, advocacy\, holistic resources\, and referral services to provide prevention and aftercare to those affected by sex trafficking. \nWe provide nonjudgmental support to empower our program participants in their pursuits through respect\, resources\, and relationships.” \nCome to rock out to these sick bands\, check out the amazing vendors (announcing soon)\, and donate to a good cause. 👻 \nFlyer Artist: @charlenewco 🎨\nSong: Get Out of My Scene by @wemightdie.theband 🎶
URL:https://showcure.com/tcevent/ghosts-of-us-fest/
LOCATION:Cafe – Henderson\, 722 W Sunset Rd\, Henderson\, NV\, 89011\, United States
ATTACH;FMTTYPE=image/png:https://showcure.com/wp-content/uploads/2025/10/Screenshot-2025-10-06-at-2.06.44-PM.png
END:VEVENT
BEGIN:VEVENT
DTSTART;TZID=America/New_York:20251031T190000
DTEND;TZID=America/New_York:20251031T210000
DTSTAMP:20260423T155547
CREATED:20251014T003230Z
LAST-MODIFIED:20251014T003230Z
UID:10000043-1761937200-1761944400@showcure.com
SUMMARY:Not Another Emo Night
DESCRIPTION:!AT THE SWAN DIVE!\nFriday\, October 31 @swandivelv — Join us for a special Halloween party! Catch some amazing bands covering your favorite emo bands\, plus a special Halloween DJ set from @notanotheremonightlv 🖤 \nPresented by Black Sheep Booking X Not Another Emo Night \nPerformances by:\nTitle Fight — @don.tess.lv\nParamore — @rachandbekmusic ft. @dreamsasnightmares\nJimmy Eat World — @same_sun_here\nMy Chemical Romance — @failedattemptlv\nLive Music: 7–10PM\nDJ Set: 10PM–Close\n1301 S Main St\n$10 Cover | 21+ \nTickets available at the link in bio (bio of @notanotheremonightlv on instagram)
URL:https://showcure.com/tcevent/not-another-emo-night-3/
LOCATION:Club – Las Vegas\, 1301 S Main St\, Las Vegas\, NV\, 89104\, United States
ATTACH;FMTTYPE=image/png:https://showcure.com/wp-content/uploads/2025/10/Screenshot-2025-10-13-at-5.25.40-PM-2.png
END:VEVENT
BEGIN:VEVENT
DTSTART;TZID=America/New_York:20251031T190000
DTEND;TZID=America/New_York:20251031T210000
DTSTAMP:20260423T155547
CREATED:20251014T003141Z
LAST-MODIFIED:20251014T003141Z
UID:10000042-1761937200-1761944400@showcure.com
SUMMARY:Not Another Emo Night
DESCRIPTION:!AT THE SWAN DIVE!\nFriday\, October 31 @swandivelv — Join us for a special Halloween party! Catch some amazing bands covering your favorite emo bands\, plus a special Halloween DJ set from @notanotheremonightlv 🖤 \nPresented by Black Sheep Booking X Not Another Emo Night \nPerformances by:\nTitle Fight — @don.tess.lv\nParamore — @rachandbekmusic ft. @dreamsasnightmares\nJimmy Eat World — @same_sun_here\nMy Chemical Romance — @failedattemptlv\nLive Music: 7–10PM\nDJ Set: 10PM–Close\n1301 S Main St\n$10 Cover | 21+ \nTickets available at the link in bio (bio of @notanotheremonightlv on instagram)
URL:https://showcure.com/tcevent/not-another-emo-night-2/
LOCATION:Club – Las Vegas\, 1301 S Main St\, Las Vegas\, NV\, 89104\, United States
ATTACH;FMTTYPE=image/png:https://showcure.com/wp-content/uploads/2025/10/Screenshot-2025-10-13-at-5.25.40-PM-1.png
END:VEVENT
BEGIN:VEVENT
DTSTART;TZID=America/New_York:20251031T190000
DTEND;TZID=America/New_York:20251031T210000
DTSTAMP:20260423T155547
CREATED:20251014T003124Z
LAST-MODIFIED:20251014T003124Z
UID:10000041-1761937200-1761944400@showcure.com
SUMMARY:Not Another Emo Night
DESCRIPTION:!AT THE SWAN DIVE!\nFriday\, October 31 @swandivelv — Join us for a special Halloween party! Catch some amazing bands covering your favorite emo bands\, plus a special Halloween DJ set from @notanotheremonightlv 🖤 \nPresented by Black Sheep Booking X Not Another Emo Night \nPerformances by:\nTitle Fight — @don.tess.lv\nParamore — @rachandbekmusic ft. @dreamsasnightmares\nJimmy Eat World — @same_sun_here\nMy Chemical Romance — @failedattemptlv\nLive Music: 7–10PM\nDJ Set: 10PM–Close\n1301 S Main St\n$10 Cover | 21+ \nTickets available at the link in bio (bio of @notanotheremonightlv on instagram)
URL:https://showcure.com/tcevent/not-another-emo-night/
LOCATION:Club – Las Vegas\, 1301 S Main St\, Las Vegas\, NV\, 89104\, United States
ATTACH;FMTTYPE=image/png:https://showcure.com/wp-content/uploads/2025/10/Screenshot-2025-10-13-at-5.25.40-PM.png
END:VEVENT
BEGIN:VEVENT
DTSTART;TZID=America/New_York:20251107T150000
DTEND;TZID=America/New_York:20251107T170000
DTSTAMP:20260423T155547
CREATED:20251105T010801Z
LAST-MODIFIED:20251105T010801Z
UID:10000062-1762527600-1762534800@showcure.com
SUMMARY:NOTHING LESS BOOKING PRESENTS
DESCRIPTION:NOTHING LESS BOOKING PRESENTS.. \nLOS ANGELES \nFRIDAY NOVEMBER 7th 2025 \nHONG KONG FUCK YOU @hongkongfuckedyou\nACxDC @acxdc_666\nAPARTMENT 213 (Record Release show) @apartment_213_official\nDESMADRE @desmadrexla\nGOLPE @golpe.punx (From Italy)\nSPUNK @spunk_official\nTRIPAS SANGRIENTAS @tripas_sangrientas_sgv\nDEVIATED STATE @xdeviatedstatex\nVOMER @vomer_\nMARRED @marredsgv\nBROKEN FOCUS @brokenfocushc\nFUSION BABIES @fusion_babies\nFRANX @franxneverdie \nALL AGES | DOORS 3:00 PM \nPre-Sale $15 tickets \nTicket Online at ETIX.COM \n1720 WAREHOUSE\n1720 E 16th St\, Los Angeles\, CA 90021
URL:https://showcure.com/tcevent/nothing-less-booking-presents-4/
LOCATION:All Ages Venue – Los angeles\, 1720 E 16th St\, Los angeles\, CA\, 920021\, United States
ATTACH;FMTTYPE=image/png:https://showcure.com/wp-content/uploads/2025/11/Screenshot-2025-11-04-at-5.00.07-PM.png
END:VEVENT
BEGIN:VEVENT
DTSTART;TZID=America/New_York:20251107T150000
DTEND;TZID=America/New_York:20251107T170000
DTSTAMP:20260423T155547
CREATED:20251105T010555Z
LAST-MODIFIED:20251105T010555Z
UID:10000061-1762527600-1762534800@showcure.com
SUMMARY:NOTHING LESS BOOKING PRESENTS
DESCRIPTION:NOTHING LESS BOOKING PRESENTS.. \nLOS ANGELES \nFRIDAY NOVEMBER 7th 2025 \nHONG KONG FUCK YOU @hongkongfuckedyou\nACxDC @acxdc_666\nAPARTMENT 213 (Record Release show) @apartment_213_official\nDESMADRE @desmadrexla\nGOLPE @golpe.punx (From Italy)\nSPUNK @spunk_official\nTRIPAS SANGRIENTAS @tripas_sangrientas_sgv\nDEVIATED STATE @xdeviatedstatex\nVOMER @vomer_\nMARRED @marredsgv\nBROKEN FOCUS @brokenfocushc\nFUSION BABIES @fusion_babies\nFRANX @franxneverdie \nALL AGES | DOORS 3:00 PM \nPre-Sale $15 tickets \nTicket Online at ETIX.COM \n1720 WAREHOUSE\n1720 E 16th St\, Los Angeles\, CA 90021
URL:https://showcure.com/tcevent/nothing-less-booking-presents-3/
LOCATION:All Ages Venue – Los angeles\, 1720 E 16th St\, Los angeles\, CA\, 920021\, United States
END:VEVENT
BEGIN:VEVENT
DTSTART;TZID=America/New_York:20251107T150000
DTEND;TZID=America/New_York:20251107T170000
DTSTAMP:20260423T155547
CREATED:20251105T010553Z
LAST-MODIFIED:20251105T010553Z
UID:10000060-1762527600-1762534800@showcure.com
SUMMARY:NOTHING LESS BOOKING PRESENTS
DESCRIPTION:NOTHING LESS BOOKING PRESENTS.. \nLOS ANGELES \nFRIDAY NOVEMBER 7th 2025 \nHONG KONG FUCK YOU @hongkongfuckedyou\nACxDC @acxdc_666\nAPARTMENT 213 (Record Release show) @apartment_213_official\nDESMADRE @desmadrexla\nGOLPE @golpe.punx (From Italy)\nSPUNK @spunk_official\nTRIPAS SANGRIENTAS @tripas_sangrientas_sgv\nDEVIATED STATE @xdeviatedstatex\nVOMER @vomer_\nMARRED @marredsgv\nBROKEN FOCUS @brokenfocushc\nFUSION BABIES @fusion_babies\nFRANX @franxneverdie \nALL AGES | DOORS 3:00 PM \nPre-Sale $15 tickets \nTicket Online at ETIX.COM \n1720 WAREHOUSE\n1720 E 16th St\, Los Angeles\, CA 90021
URL:https://showcure.com/tcevent/nothing-less-booking-presents-2/
LOCATION:All Ages Venue – Los angeles\, 1720 E 16th St\, Los angeles\, CA\, 920021\, United States
END:VEVENT
BEGIN:VEVENT
DTSTART;TZID=America/New_York:20251107T150000
DTEND;TZID=America/New_York:20251107T170000
DTSTAMP:20260423T155547
CREATED:20251105T010429Z
LAST-MODIFIED:20251105T010429Z
UID:10000059-1762527600-1762534800@showcure.com
SUMMARY:NOTHING LESS BOOKING PRESENTS
DESCRIPTION:NOTHING LESS BOOKING PRESENTS.. \nLOS ANGELES \nFRIDAY NOVEMBER 7th 2025 \nHONG KONG FUCK YOU @hongkongfuckedyou\nACxDC @acxdc_666\nAPARTMENT 213 (Record Release show) @apartment_213_official\nDESMADRE @desmadrexla\nGOLPE @golpe.punx (From Italy)\nSPUNK @spunk_official\nTRIPAS SANGRIENTAS @tripas_sangrientas_sgv\nDEVIATED STATE @xdeviatedstatex\nVOMER @vomer_\nMARRED @marredsgv\nBROKEN FOCUS @brokenfocushc\nFUSION BABIES @fusion_babies\nFRANX @franxneverdie \nALL AGES | DOORS 3:00 PM \nPre-Sale $15 tickets \nTicket Online at ETIX.COM \n1720 WAREHOUSE\n1720 E 16th St\, Los Angeles\, CA 90021
URL:https://showcure.com/tcevent/nothing-less-booking-presents/
LOCATION:All Ages Venue – Los angeles\, 1720 E 16th St\, Los angeles\, CA\, 920021\, United States
END:VEVENT
BEGIN:VEVENT
DTSTART;TZID=America/New_York:20251107T170000
DTEND;TZID=America/New_York:20251107T190000
DTSTAMP:20260423T155547
CREATED:20251102T230338Z
LAST-MODIFIED:20251102T230338Z
UID:10000048-1762534800-1762542000@showcure.com
SUMMARY:Merced House Show
DESCRIPTION:Come support Casino Youth while they’re on tour 🤙DM for addy and respect the space 💗💗💗 Art vendors welcome! Hit us up for more info \nReach out to – @esexband on insta for any questions
URL:https://showcure.com/tcevent/merced-house-show/
LOCATION:All Ages Venue – henderson\, 1\, henderson\, NV\, 89074\, United States
ATTACH;FMTTYPE=image/png:https://showcure.com/wp-content/uploads/2025/11/Screenshot-2025-11-02-at-3.01.14-PM.png
END:VEVENT
BEGIN:VEVENT
DTSTART;TZID=America/New_York:20251107T170000
DTEND;TZID=America/New_York:20251107T190000
DTSTAMP:20260423T155547
CREATED:20251102T223954Z
LAST-MODIFIED:20251102T223954Z
UID:10000044-1762534800-1762542000@showcure.com
SUMMARY:Sedonas Goth Prom --hosted riyahbooking
DESCRIPTION:hosted by riyahbooking–In exactly one week on 11/7 First Friday at Taverna Courtyard we will be celebrating the life of Sedona with a beautiful free show put on by @lhaynal (donations are encouraged for the family)\nFrom 5-9pm there will be music from some incredible local bands that meant a lot to Sedona. From 9-10pm we will be doing an interactive activity for grief processing.\nHarm Reduction including @endoverdose.vegas will be there as well.\nThank you L for reaching out to us to help organize this show. We are honored and hope this brings joy to a lot of people. 🖤 \nFlyer Artist: @charlenewco 🎨\nSong: catcher in the rye is my favorite book but wtf is the rye @almostnovemberlv
URL:https://showcure.com/tcevent/sedonas-goth-prom-hosted-riyahbooking/
LOCATION:Cafe – Las Vegas\, 1031 S Main St\, Las Vegas\, NV\, 89101\, United States
ATTACH;FMTTYPE=image/jpeg:https://showcure.com/wp-content/uploads/2025/11/IMG_6265.jpg
END:VEVENT
BEGIN:VEVENT
DTSTART;TZID=America/New_York:20251107T180000
DTEND;TZID=America/New_York:20251107T200000
DTSTAMP:20260423T155547
CREATED:20251105T013158Z
LAST-MODIFIED:20251105T013158Z
UID:10000070-1762538400-1762545600@showcure.com
SUMMARY:First Friday show with THE X-FLOWERS
DESCRIPTION:posted by-x_flowers_band\nFIRST FRIDAY!!! Come down this week to hangout with us at The Indie Stage with live music from local bands!!!! 🖤🖤 \nIndie Stage – Corner of Coolidge and Main/1St\nNovember 7th | 6-10pm\nAll Ages | Public Show \nThe X-Flowers\nThe Red Seduction\n2-Dayz\nLunar Chain \nAcoustic Sets by Joey Jupiter + Ava Chanel \nWe can’t wait to see you guys there! Come pick up some merch and signed copies of CDs ♥️♥️ \nFlyer by @lilliesoverthegardenwall
URL:https://showcure.com/tcevent/first-friday-show-with-the-x-flowers/
LOCATION:DIY – Las Vegas\, 921 S Main St\, Las Vegas\, NV\, 89101\, United States
ATTACH;FMTTYPE=image/png:https://showcure.com/wp-content/uploads/2025/11/Screenshot-2025-11-04-at-5.29.54-PM.png
END:VEVENT
BEGIN:VEVENT
DTSTART;TZID=America/New_York:20251107T180000
DTEND;TZID=America/New_York:20251107T200000
DTSTAMP:20260423T155547
CREATED:20251105T011243Z
LAST-MODIFIED:20251105T011243Z
UID:10000064-1762538400-1762545600@showcure.com
SUMMARY:The Most Stacked First Friday Ever
DESCRIPTION:The Most Stacked First Friday Ever\nNovember 7th at Nelsons Fine Art Plaza\nSuper Free Show Live Music All Night 💜\nFlyer by @av.bug
URL:https://showcure.com/tcevent/the-most-stacked-first-friday-ever/
LOCATION:Outdoor – tempe\, 51 e 10th st\, tempe\, AZ\, 85281\, United States
ATTACH;FMTTYPE=image/png:https://showcure.com/wp-content/uploads/2025/11/Screenshot-2025-11-04-at-5.10.47-PM.png
END:VEVENT
BEGIN:VEVENT
DTSTART;TZID=America/New_York:20251107T200000
DTEND;TZID=America/New_York:20251107T220000
DTSTAMP:20260423T155547
CREATED:20251103T002856Z
LAST-MODIFIED:20251103T002856Z
UID:10000053-1762545600-1762552800@showcure.com
SUMMARY:Fri Nov 7 Show
DESCRIPTION:RIDAY NOV 7 @theredwoodbar 8pm\nA psychedelic terror ride in 5D!!! \nstarring\n@psychosonic_band\n@thehideawaylv\n@_johnny.dahmer_\n@christinajeanandthehowlers \nYou’ll go home and dream about it… guaranteed\n@artbycherryjayne \nReach out via Instagram to (psychosonic_band)
URL:https://showcure.com/tcevent/fri-nov-7-show/
LOCATION:Cafe – Los Angeles\, 316 W 2nd St\, Los Angeles\, CA\, 90012\, United States
ATTACH;FMTTYPE=image/png:https://showcure.com/wp-content/uploads/2025/11/Screenshot-2025-11-02-at-4.26.09-PM.png
END:VEVENT
END:VCALENDAR