BEGIN:VCALENDAR
VERSION:2.0
PRODID:-//Showcure - ECPv6.15.20//NONSGML v1.0//EN
CALSCALE:GREGORIAN
METHOD:PUBLISH
X-WR-CALNAME:Showcure
X-ORIGINAL-URL:https://showcure.com
X-WR-CALDESC:Events for Showcure
REFRESH-INTERVAL;VALUE=DURATION:PT1H
X-Robots-Tag:noindex
X-PUBLISHED-TTL:PT1H
BEGIN:VTIMEZONE
TZID:America/New_York
BEGIN:DAYLIGHT
TZOFFSETFROM:-0500
TZOFFSETTO:-0400
TZNAME:EDT
DTSTART:20240310T070000
END:DAYLIGHT
BEGIN:STANDARD
TZOFFSETFROM:-0400
TZOFFSETTO:-0500
TZNAME:EST
DTSTART:20241103T060000
END:STANDARD
BEGIN:DAYLIGHT
TZOFFSETFROM:-0500
TZOFFSETTO:-0400
TZNAME:EDT
DTSTART:20250309T070000
END:DAYLIGHT
BEGIN:STANDARD
TZOFFSETFROM:-0400
TZOFFSETTO:-0500
TZNAME:EST
DTSTART:20251102T060000
END:STANDARD
BEGIN:DAYLIGHT
TZOFFSETFROM:-0500
TZOFFSETTO:-0400
TZNAME:EDT
DTSTART:20260308T070000
END:DAYLIGHT
BEGIN:STANDARD
TZOFFSETFROM:-0400
TZOFFSETTO:-0500
TZNAME:EST
DTSTART:20261101T060000
END:STANDARD
END:VTIMEZONE
BEGIN:VEVENT
DTSTART;TZID=America/New_York:20250831T120000
DTEND;TZID=America/New_York:20250831T150000
DTSTAMP:20260422T182406
CREATED:20250828T230500Z
LAST-MODIFIED:20250828T230500Z
UID:10000004-1756641600-1756652400@showcure.com
SUMMARY:consolas
DESCRIPTION:
URL:https://showcure.com/tcevent/consolas/
LOCATION:DE
END:VEVENT
BEGIN:VEVENT
DTSTART;TZID=America/New_York:20250831T120000
DTEND;TZID=America/New_York:20250831T140000
DTSTAMP:20260422T182406
CREATED:20250829T190316Z
LAST-MODIFIED:20250829T190316Z
UID:10000012-1756641600-1756648800@showcure.com
SUMMARY:fetch
DESCRIPTION:go
URL:https://showcure.com/tcevent/fetch/
LOCATION:Theater – afaf\, 123\, afaf\, FL\, 46000\, United States
ATTACH;FMTTYPE=image/jpeg:https://showcure.com/wp-content/uploads/2025/08/wallpaperflare.com_wallpaper-29.jpg
END:VEVENT
BEGIN:VEVENT
DTSTART;TZID=America/New_York:20250831T120000
DTEND;TZID=America/New_York:20250831T140000
DTSTAMP:20260422T182406
CREATED:20250829T173319Z
LAST-MODIFIED:20250829T173319Z
UID:10000009-1756641600-1756648800@showcure.com
SUMMARY:good one
DESCRIPTION:good one
URL:https://showcure.com/tcevent/good-one/
LOCATION:Outdoor – maafi\, 123mawfi\, maafi\, KS\, 12313\, United States
ATTACH;FMTTYPE=image/jpeg:https://showcure.com/wp-content/uploads/2025/08/goku.jpg
END:VEVENT
BEGIN:VEVENT
DTSTART;TZID=America/New_York:20250831T120000
DTEND;TZID=America/New_York:20250831T140000
DTSTAMP:20260422T182406
CREATED:20250829T172613Z
LAST-MODIFIED:20250829T172613Z
UID:10000008-1756641600-1756648800@showcure.com
SUMMARY:Aqua Green
DESCRIPTION:Gw
URL:https://showcure.com/tcevent/aqua-green/
LOCATION:DIY – adasd\, 1231asfasd\, adasd\, KY\, 231231\, United States
ATTACH;FMTTYPE=image/webp:https://showcure.com/wp-content/uploads/2025/08/IMG_3292.webp
END:VEVENT
BEGIN:VEVENT
DTSTART;TZID=America/New_York:20250831T120000
DTEND;TZID=America/New_York:20250831T140000
DTSTAMP:20260422T182406
CREATED:20250829T164614Z
LAST-MODIFIED:20250829T164614Z
UID:10000007-1756641600-1756648800@showcure.com
SUMMARY:A4tech
DESCRIPTION:freestyler
URL:https://showcure.com/tcevent/a4tech/
LOCATION:Club – ewaas\, 123 st3\, ewaas\, LA\, 12345\, United States
END:VEVENT
BEGIN:VEVENT
DTSTART;TZID=America/New_York:20250830T120000
DTEND;TZID=America/New_York:20250830T140000
DTSTAMP:20260422T182406
CREATED:20250829T182256Z
LAST-MODIFIED:20250829T182256Z
UID:10000010-1756555200-1756562400@showcure.com
SUMMARY:Posting an Event
DESCRIPTION:this is a test event
URL:https://showcure.com/tcevent/posting-an-event/
LOCATION:Club – Gold Town\, 123 Apple GO\, Gold Town\, KS\, 12345\, United States
ATTACH;FMTTYPE=image/jpeg:https://showcure.com/wp-content/uploads/2025/08/demon_slayer.jpg
END:VEVENT
BEGIN:VEVENT
DTSTART;TZID=America/New_York:20250830T120000
DTEND;TZID=America/New_York:20250830T140000
DTSTAMP:20260422T182406
CREATED:20250829T155222Z
LAST-MODIFIED:20250829T155222Z
UID:10000006-1756555200-1756562400@showcure.com
SUMMARY:Ticjets
DESCRIPTION:Comms
URL:https://showcure.com/tcevent/ticjets/
LOCATION:Outdoor – WASA\, 123 St2\, WASA\, HI\, 2345\, United States
ATTACH;FMTTYPE=image/jpeg:https://showcure.com/wp-content/uploads/2025/08/no-more-excuses.jpg
END:VEVENT
BEGIN:VEVENT
DTSTART;TZID=America/New_York:20250830T120000
DTEND;TZID=America/New_York:20250830T120000
DTSTAMP:20260422T182406
CREATED:20250829T112701Z
LAST-MODIFIED:20250829T112701Z
UID:10000005-1756555200-1756555200@showcure.com
SUMMARY:Event Punk
DESCRIPTION:ererct
URL:https://showcure.com/tcevent/event-punk/
LOCATION:DIY – ddas\, 123xst34\, ddas\, ME\, 46000\, United States
ATTACH;FMTTYPE=image/jpeg:https://showcure.com/wp-content/uploads/2025/08/amd-1.jpg
END:VEVENT
BEGIN:VEVENT
DTSTART;TZID=America/New_York:20250828T080000
DTEND;TZID=America/New_York:20250828T170000
DTSTAMP:20260422T182406
CREATED:20250828T210853Z
LAST-MODIFIED:20250828T210853Z
UID:10000003-1756368000-1756400400@showcure.com
SUMMARY:GUI event
DESCRIPTION:
URL:https://showcure.com/tcevent/gui-event/
LOCATION:DE
END:VEVENT
END:VCALENDAR