BEGIN:VCALENDAR
VERSION:2.0
PRODID:-//Showcure - ECPv6.15.20//NONSGML v1.0//EN
CALSCALE:GREGORIAN
METHOD:PUBLISH
X-WR-CALNAME:Showcure
X-ORIGINAL-URL:https://showcure.com
X-WR-CALDESC:Events for Showcure
REFRESH-INTERVAL;VALUE=DURATION:PT1H
X-Robots-Tag:noindex
X-PUBLISHED-TTL:PT1H
BEGIN:VTIMEZONE
TZID:America/New_York
BEGIN:DAYLIGHT
TZOFFSETFROM:-0500
TZOFFSETTO:-0400
TZNAME:EDT
DTSTART:20250309T070000
END:DAYLIGHT
BEGIN:STANDARD
TZOFFSETFROM:-0400
TZOFFSETTO:-0500
TZNAME:EST
DTSTART:20251102T060000
END:STANDARD
BEGIN:DAYLIGHT
TZOFFSETFROM:-0500
TZOFFSETTO:-0400
TZNAME:EDT
DTSTART:20260308T070000
END:DAYLIGHT
BEGIN:STANDARD
TZOFFSETFROM:-0400
TZOFFSETTO:-0500
TZNAME:EST
DTSTART:20261101T060000
END:STANDARD
BEGIN:DAYLIGHT
TZOFFSETFROM:-0500
TZOFFSETTO:-0400
TZNAME:EDT
DTSTART:20270314T070000
END:DAYLIGHT
BEGIN:STANDARD
TZOFFSETFROM:-0400
TZOFFSETTO:-0500
TZNAME:EST
DTSTART:20271107T060000
END:STANDARD
END:VTIMEZONE
BEGIN:VEVENT
DTSTART;TZID=America/New_York:20260310T180000
DTEND;TZID=America/New_York:20260310T200000
DTSTAMP:20260421T150925
CREATED:20260301T010602Z
LAST-MODIFIED:20260301T010602Z
UID:10000080-1773165600-1773172800@showcure.com
SUMMARY:Super Screamo Show
DESCRIPTION:vegas.underground\nSuper Screamo Show – Mar10 \nHola Habibi\nAll Ages\n6PM\n$12\, $15\nvegas-underground.com \n@wwfm.band\n@almostnovemberlv\n@sleepdept.band\n@stingrayandthesnarlies \nFlyer: @waybaomusic
URL:https://showcure.com/tcevent/super-screamo-show/
LOCATION:All Ages Venue – Las Vegas\, 1115 S Casino Center Blvd\, Las Vegas\, NV\, 89104\, United States
ATTACH;FMTTYPE=image/png:https://showcure.com/wp-content/uploads/2026/02/Screenshot-2026-02-28-at-5.03.44-PM.png
END:VEVENT
BEGIN:VEVENT
DTSTART;TZID=America/New_York:20260323T150000
DTEND;TZID=America/New_York:20260323T170000
DTSTAMP:20260421T150925
CREATED:20260301T010207Z
LAST-MODIFIED:20260301T010207Z
UID:10000078-1774278000-1774285200@showcure.com
SUMMARY:Red Dwarf Show / 21+
DESCRIPTION:hosted by: pigeonhatcollective\n3/23 9PM ‼️‼️‼️ BEHOLD ‼️‼️‼️ A FEMME POWER PACKED PUNK LINEUP AT @reddwarf_lv 👽🌼🛰 \nWE ARE BRINGING BACK THE FUN FRIENDLY DANCE PUNK HOMIES @linneasgardenband COMING ALL THE WAY FROM BOSTON\, MA \nWE ALSO HAVE LOCAL PUNK ROCK FAVORITES @motiondetected_band & WONDERFULLY WACKY @vegas_femaliens COMING ALL THE WAY FROM OUTER SPACE 🚀🪐✨️ \nAS ALWAYS\, THERE IS NO COVER FOR THIS SHOW\, SO COME ON DOWN AND START YOUR WEEK OFF RIGHT WITH SOME PIZZA\, BEER\, AND RAGING BOPPARINOS
URL:https://showcure.com/tcevent/red-dwarf-show-21/
LOCATION:Cafe – Las Vegas\, 1305 Vegas Valley Dr\, Las Vegas\, NV\, 89169\, United States
ATTACH;FMTTYPE=image/png:https://showcure.com/wp-content/uploads/2026/02/Screenshot-2026-02-28-at-4.59.54-PM.png
END:VEVENT
BEGIN:VEVENT
DTSTART;TZID=America/New_York:20260323T150000
DTEND;TZID=America/New_York:20260323T170000
DTSTAMP:20260421T150925
CREATED:20260301T010217Z
LAST-MODIFIED:20260301T010217Z
UID:10000079-1774278000-1774285200@showcure.com
SUMMARY:Red Dwarf Show / 21+
DESCRIPTION:hosted by: pigeonhatcollective\n3/23 9PM ‼️‼️‼️ BEHOLD ‼️‼️‼️ A FEMME POWER PACKED PUNK LINEUP AT @reddwarf_lv 👽🌼🛰 \nWE ARE BRINGING BACK THE FUN FRIENDLY DANCE PUNK HOMIES @linneasgardenband COMING ALL THE WAY FROM BOSTON\, MA \nWE ALSO HAVE LOCAL PUNK ROCK FAVORITES @motiondetected_band & WONDERFULLY WACKY @vegas_femaliens COMING ALL THE WAY FROM OUTER SPACE 🚀🪐✨️ \nAS ALWAYS\, THERE IS NO COVER FOR THIS SHOW\, SO COME ON DOWN AND START YOUR WEEK OFF RIGHT WITH SOME PIZZA\, BEER\, AND RAGING BOPPARINOS
URL:https://showcure.com/tcevent/red-dwarf-show-21-2/
LOCATION:Cafe – Las Vegas\, 1305 Vegas Valley Dr\, Las Vegas\, NV\, 89169\, United States
ATTACH;FMTTYPE=image/png:https://showcure.com/wp-content/uploads/2026/02/Screenshot-2026-02-28-at-4.59.54-PM-1.png
END:VEVENT
BEGIN:VEVENT
DTSTART;TZID=America/New_York:20260328T120000
DTEND;TZID=America/New_York:20260328T140000
DTSTAMP:20260421T150925
CREATED:20251105T011522Z
LAST-MODIFIED:20251105T011522Z
UID:10000065-1774699200-1774706400@showcure.com
SUMMARY:Los Darks
DESCRIPTION:(this is by @vivalosdarks on instagram)\nSign up now for the Presale starting Friday\, Nov 7th at 10am PT. Layaway plans available for all ticket types start at $19.99 down.
URL:https://showcure.com/tcevent/los-darks/
LOCATION:Outdoor – Santa Ana\,\, 602 N Flower St\, Santa Ana\,\, CA\, 92703\, United States
ATTACH;FMTTYPE=image/png:https://showcure.com/wp-content/uploads/2025/11/Screenshot-2025-11-04-at-5.13.02-PM.png
END:VEVENT
BEGIN:VEVENT
DTSTART;TZID=America/New_York:20260410T170000
DTEND;TZID=America/New_York:20260410T190000
DTSTAMP:20260421T150925
CREATED:20260301T215104Z
LAST-MODIFIED:20260301T215104Z
UID:10000088-1775840400-1775847600@showcure.com
SUMMARY:In The Absence of Light
DESCRIPTION:memoirenv\nLAS VEGAS\, NV! April 10th\, 2026 @ Eagle Aerie Hall\n@pulsarpresents The “In The Absence Of Light” Tour \nFeaturing: @memoirenv @everglade_us @withinoblivion @aetherealband @teachlvhc @shadowsofmotion @manzanitadeathmarch\n–\nALL AGES | TICKETS: $13 PRE $15 DOS\ntickets at dice.fm
URL:https://showcure.com/tcevent/in-the-absence-of-light/
LOCATION:All Ages Venue – Henderson\, 310 Pacific Ave\, Henderson\, NV\, 89015\, United States
ATTACH;FMTTYPE=image/png:https://showcure.com/wp-content/uploads/2026/03/Screenshot-2026-03-01-at-1.47.52-PM.png
END:VEVENT
BEGIN:VEVENT
DTSTART;TZID=America/New_York:20260410T170000
DTEND;TZID=America/New_York:20260410T190000
DTSTAMP:20260421T150925
CREATED:20260301T215124Z
LAST-MODIFIED:20260301T215124Z
UID:10000089-1775840400-1775847600@showcure.com
SUMMARY:In The Absence of Light
DESCRIPTION:memoirenv\nLAS VEGAS\, NV! April 10th\, 2026 @ Eagle Aerie Hall\n@pulsarpresents The “In The Absence Of Light” Tour \nFeaturing: @memoirenv @everglade_us @withinoblivion @aetherealband @teachlvhc @shadowsofmotion @manzanitadeathmarch\n–\nALL AGES | TICKETS: $13 PRE $15 DOS\ntickets at dice.fm
URL:https://showcure.com/tcevent/in-the-absence-of-light-2/
LOCATION:All Ages Venue – Henderson\, 310 Pacific Ave\, Henderson\, NV\, 89015\, United States
ATTACH;FMTTYPE=image/png:https://showcure.com/wp-content/uploads/2026/03/Screenshot-2026-03-01-at-1.47.52-PM-1.png
END:VEVENT
BEGIN:VEVENT
DTSTART;TZID=America/New_York:20260411T080000
DTEND;TZID=America/New_York:20260411T100000
DTSTAMP:20260421T150925
CREATED:20260411T083944Z
LAST-MODIFIED:20260411T083944Z
UID:10000099-1775894400-1775901600@showcure.com
SUMMARY:Past Event
DESCRIPTION:oh hey
URL:https://showcure.com/tcevent/past-event/
LOCATION:123 Boston St 1\, 123 Boston St 1\, astar\, IL\, 456645\, United States
ATTACH;FMTTYPE=image/jpeg:https://showcure.com/wp-content/uploads/2026/04/ellie-last-of-us-part-2-4k-wallpaper-uhdpaper.com-258@5@i-3.jpg
END:VEVENT
BEGIN:VEVENT
DTSTART;TZID=America/New_York:20260411T120000
DTEND;TZID=America/New_York:20260411T140000
DTSTAMP:20260421T150925
CREATED:20260410T163420Z
LAST-MODIFIED:20260410T163420Z
UID:10000092-1775908800-1775916000@showcure.com
SUMMARY:test event
DESCRIPTION:Come to mars to enjoy this events ! I’ll bring the crackers.
URL:https://showcure.com/tcevent/test-event/
LOCATION:Theater – Mars City\, St 1 Main Road\, Mars City\, IL\, 12356\, United States
ATTACH;FMTTYPE=image/jpeg:https://showcure.com/wp-content/uploads/2026/04/ellie-last-of-us-part-2-4k-wallpaper-uhdpaper.com-258@5@i.jpg
END:VEVENT
BEGIN:VEVENT
DTSTART;TZID=America/New_York:20260411T120000
DTEND;TZID=America/New_York:20260411T140000
DTSTAMP:20260421T150925
CREATED:20260410T163434Z
LAST-MODIFIED:20260410T163434Z
UID:10000093-1775908800-1775916000@showcure.com
SUMMARY:test event
DESCRIPTION:Come to mars to enjoy this events ! I’ll bring the crackers.
URL:https://showcure.com/tcevent/test-event-2/
LOCATION:Theater – Mars City\, St 1 Main Road\, Mars City\, IL\, 12356\, United States
ATTACH;FMTTYPE=image/jpeg:https://showcure.com/wp-content/uploads/2026/04/ellie-last-of-us-part-2-4k-wallpaper-uhdpaper.com-258@5@i-1.jpg
END:VEVENT
BEGIN:VEVENT
DTSTART;TZID=America/New_York:20260411T120000
DTEND;TZID=America/New_York:20260411T140000
DTSTAMP:20260421T150925
CREATED:20260410T170658Z
LAST-MODIFIED:20260410T170658Z
UID:10000094-1775908800-1775916000@showcure.com
SUMMARY:consolas
DESCRIPTION:gg
URL:https://showcure.com/tcevent/consolas-2/
LOCATION:123 Boston St 1\, 123 Boston St 1\, astar\, IL\, 456645\, United States
ATTACH;FMTTYPE=image/jpeg:https://showcure.com/wp-content/uploads/2026/04/football-star-cristiano-ronaldo-celebrity-wallpaper-preview-1.jpg
END:VEVENT
BEGIN:VEVENT
DTSTART;TZID=America/New_York:20260413T170000
DTEND;TZID=America/New_York:20260413T190000
DTSTAMP:20260421T150925
CREATED:20260413T162026Z
LAST-MODIFIED:20260413T162026Z
UID:10000100-1776099600-1776106800@showcure.com
SUMMARY:Frequencies After Dark
DESCRIPTION:An underground electronic music showcase where emerging producers battle live\, no pre-recorded sets allowed. Crowd votes on the spot.
URL:https://showcure.com/tcevent/frequencies-after-dark/
LOCATION:DIY – Las Vegas\, Void Warehouse Industrial Zone\, Block 7\, Las Vegas\, NV\, 12345\, United States
ATTACH;FMTTYPE=image/jpeg:https://showcure.com/wp-content/uploads/2026/04/joel-and-ellie-the-last-of-us-part-2-scenery-uhdpaper.com-4K-5.2472-1.jpg
END:VEVENT
BEGIN:VEVENT
DTSTART;TZID=America/New_York:20260415T180000
DTEND;TZID=America/New_York:20260415T200000
DTSTAMP:20260421T150925
CREATED:20260415T175743Z
LAST-MODIFIED:20260415T175743Z
UID:10000101-1776276000-1776283200@showcure.com
SUMMARY:Rhythm Night: Open Music Jam
DESCRIPTION:An open music session where musicians\, singers\, and producers come together to jam live. Participants can perform solo\, collaborate on the spot\, or experiment with different instruments and styles. The event focuses on creativity\, improvisation\, and community-driven music expression.
URL:https://showcure.com/tcevent/rhythm-night-open-music-jam/
LOCATION:123 Boston St 1\, 123 Boston St 1\, astar\, IL\, 456645\, United States
ATTACH;FMTTYPE=image/jpeg:https://showcure.com/wp-content/uploads/2026/04/joel-and-ellie-the-last-of-us-part-2-scenery-uhdpaper.com-4K-5.2472-2.jpg
END:VEVENT
BEGIN:VEVENT
DTSTART;TZID=America/New_York:20260416T120000
DTEND;TZID=America/New_York:20260416T140000
DTSTAMP:20260421T150925
CREATED:20260411T032356Z
LAST-MODIFIED:20260411T032356Z
UID:10000097-1776340800-1776348000@showcure.com
SUMMARY:poi
DESCRIPTION:poi poi
URL:https://showcure.com/tcevent/poi-2/
LOCATION:123 Stg2\, 123 Stg2\, Los Angeles\, NV\, 12345\, United States
ATTACH;FMTTYPE=image/jpeg:https://showcure.com/wp-content/uploads/2026/04/wallpaperflare.com_wallpaper-1.jpg
END:VEVENT
BEGIN:VEVENT
DTSTART;TZID=America/New_York:20260418T120000
DTEND;TZID=America/New_York:20260418T140000
DTSTAMP:20260421T150925
CREATED:20260410T171347Z
LAST-MODIFIED:20260410T171347Z
UID:10000095-1776513600-1776520800@showcure.com
SUMMARY:ok
DESCRIPTION:daz
URL:https://showcure.com/tcevent/ok-2/
LOCATION:123 St 1\, 123 St 1\, Maine\, MN\, 34216\, United States
ATTACH;FMTTYPE=image/jpeg:https://showcure.com/wp-content/uploads/2026/04/the-last-of-us-part-2-ellie-uhdpaper.com-4K-5.2489-3.jpg
END:VEVENT
BEGIN:VEVENT
DTSTART;TZID=America/New_York:20260428T120000
DTEND;TZID=America/New_York:20260428T140000
DTSTAMP:20260421T150925
CREATED:20260407T034648Z
LAST-MODIFIED:20260407T034648Z
UID:10000090-1777377600-1777384800@showcure.com
SUMMARY:AH Hell Nah ! Get yo s outa here
DESCRIPTION:So we are testing \, since we are testing \, means we are testing .
URL:https://showcure.com/tcevent/ah-hell-nah-get-yo-s-outa-here/
LOCATION:Cafe – Los Angeles\, 316 W 2nd St\, Los Angeles\, CA\, 90012\, United States
ATTACH;FMTTYPE=image/jpeg:https://showcure.com/wp-content/uploads/2026/04/the-last-of-us-part-2-ellie-uhdpaper.com-4K-5.2489.jpg
END:VEVENT
BEGIN:VEVENT
DTSTART;TZID=America/New_York:20260429T120000
DTEND;TZID=America/New_York:20260429T140000
DTSTAMP:20260421T150925
CREATED:20260411T041138Z
LAST-MODIFIED:20260411T041138Z
UID:10000098-1777464000-1777471200@showcure.com
SUMMARY:fackk
DESCRIPTION:fakie
URL:https://showcure.com/tcevent/fackk/
LOCATION:123 St 1\, 123 St 1\, Maine\, MN\, 34216\, United States
ATTACH;FMTTYPE=image/jpeg:https://showcure.com/wp-content/uploads/2026/04/joel-and-ellie-the-last-of-us-part-2-scenery-uhdpaper.com-4K-5.2472.jpg
END:VEVENT
BEGIN:VEVENT
DTSTART;TZID=America/New_York:20260430T120000
DTEND;TZID=America/New_York:20260430T140000
DTSTAMP:20260421T150925
CREATED:20260407T040434Z
LAST-MODIFIED:20260407T040434Z
UID:10000091-1777550400-1777557600@showcure.com
SUMMARY:AH Hell Nah ! Get yo s outa here
DESCRIPTION:we are testing \, so as we are testing you know we are testing and if you dont know then know we are testing.
URL:https://showcure.com/tcevent/ah-hell-nah-get-yo-s-outa-here-2/
LOCATION:Cafe – Los Angeles\, 316 W 2nd St\, Los Angeles\, CA\, 90012\, United States
ATTACH;FMTTYPE=image/jpeg:https://showcure.com/wp-content/uploads/2026/04/the-last-of-us-part-2-ellie-uhdpaper.com-4K-5.2489-1.jpg
END:VEVENT
BEGIN:VEVENT
DTSTART;TZID=America/New_York:20260430T120000
DTEND;TZID=America/New_York:20260430T140000
DTSTAMP:20260421T150925
CREATED:20260410T175558Z
LAST-MODIFIED:20260410T175558Z
UID:10000096-1777550400-1777557600@showcure.com
SUMMARY:tpt
DESCRIPTION:sfafa
URL:https://showcure.com/tcevent/tpt/
LOCATION:Club – bsy\, 123\, bsy\, KY\, 13313\, United States
ATTACH;FMTTYPE=image/jpeg:https://showcure.com/wp-content/uploads/2026/04/ellie-last-of-us-part-2-4k-wallpaper-uhdpaper.com-258@5@i-2.jpg
END:VEVENT
BEGIN:VEVENT
DTSTART;TZID=America/New_York:20260523T180000
DTEND;TZID=America/New_York:20260523T200000
DTSTAMP:20260421T150925
CREATED:20260301T214638Z
LAST-MODIFIED:20260301T214638Z
UID:10000087-1779559200-1779566400@showcure.com
SUMMARY:Pulsar Presents
DESCRIPTION:pulsar presents\nON SALE NOW! Sin City’s own SPIRITWORLD return for an insane hometown show Saturday May 23rd with special guests ROMAN CANDLE and DOOMSDAY! \nLIVE at GREY WITCH 🐈‍⬛\n722 W Sunset Rd Henderson NV\n6PM | All Ages | Tix @ DICE.fm
URL:https://showcure.com/tcevent/pulsar-presents/
LOCATION:Cafe – Henderson\, 722 W Sunset Rd\, Henderson\, NV\, 89011\, United States
ATTACH;FMTTYPE=image/png:https://showcure.com/wp-content/uploads/2026/03/Screenshot-2026-03-01-at-1.45.09-PM.png
END:VEVENT
END:VCALENDAR