BEGIN:VCALENDAR
VERSION:2.0
PRODID:-//Showcure - ECPv6.15.20//NONSGML v1.0//EN
CALSCALE:GREGORIAN
METHOD:PUBLISH
X-WR-CALNAME:Showcure
X-ORIGINAL-URL:https://showcure.com
X-WR-CALDESC:Events for Showcure
REFRESH-INTERVAL;VALUE=DURATION:PT1H
X-Robots-Tag:noindex
X-PUBLISHED-TTL:PT1H
BEGIN:VTIMEZONE
TZID:America/New_York
BEGIN:DAYLIGHT
TZOFFSETFROM:-0500
TZOFFSETTO:-0400
TZNAME:EDT
DTSTART:20240310T070000
END:DAYLIGHT
BEGIN:STANDARD
TZOFFSETFROM:-0400
TZOFFSETTO:-0500
TZNAME:EST
DTSTART:20241103T060000
END:STANDARD
BEGIN:DAYLIGHT
TZOFFSETFROM:-0500
TZOFFSETTO:-0400
TZNAME:EDT
DTSTART:20250309T070000
END:DAYLIGHT
BEGIN:STANDARD
TZOFFSETFROM:-0400
TZOFFSETTO:-0500
TZNAME:EST
DTSTART:20251102T060000
END:STANDARD
BEGIN:DAYLIGHT
TZOFFSETFROM:-0500
TZOFFSETTO:-0400
TZNAME:EDT
DTSTART:20260308T070000
END:DAYLIGHT
BEGIN:STANDARD
TZOFFSETFROM:-0400
TZOFFSETTO:-0500
TZNAME:EST
DTSTART:20261101T060000
END:STANDARD
END:VTIMEZONE
BEGIN:VEVENT
DTSTART;TZID=America/New_York:20251221T140000
DTEND;TZID=America/New_York:20251221T160000
DTSTAMP:20260421T211107
CREATED:20251105T055230Z
LAST-MODIFIED:20251105T055230Z
UID:10000077-1766325600-1766332800@showcure.com
SUMMARY:F**k CHRISTMAS!
DESCRIPTION:NEW SHOW ALERT 🚨 \nThe mighty FEAR (@fearleevingofficial) return to Alex’s Bar for a Sunday funday matinee 🤘🤘🤘 \n➕ special guests Mike Watt (@wattfrompedro) and The Secondmen\, @lovecanal\, and @robber_gang! \nYou KNOW tickets are gonna sell fast\, get yours today by hitting the link in our bio 🏃‍♀️💨 // Sunday\, December 21st\, 2 pm\, 21+\nTickets at Alexbar.com\nFlyer by @kustomdeluxedesign
URL:https://showcure.com/tcevent/fk-christmas/
LOCATION:Theater – Long Beach\, 2913 E Anaheim St\, Long Beach\, CA\, 90804\, United States
ATTACH;FMTTYPE=image/png:https://showcure.com/wp-content/uploads/2025/11/Screenshot-2025-11-04-at-9.49.19-PM.png
END:VEVENT
END:VCALENDAR