BEGIN:VCALENDAR
VERSION:2.0
PRODID:-//Showcure - ECPv6.15.20//NONSGML v1.0//EN
CALSCALE:GREGORIAN
METHOD:PUBLISH
X-WR-CALNAME:Showcure
X-ORIGINAL-URL:https://showcure.com
X-WR-CALDESC:Events for Showcure
REFRESH-INTERVAL;VALUE=DURATION:PT1H
X-Robots-Tag:noindex
X-PUBLISHED-TTL:PT1H
BEGIN:VTIMEZONE
TZID:America/New_York
BEGIN:DAYLIGHT
TZOFFSETFROM:-0500
TZOFFSETTO:-0400
TZNAME:EDT
DTSTART:20240310T070000
END:DAYLIGHT
BEGIN:STANDARD
TZOFFSETFROM:-0400
TZOFFSETTO:-0500
TZNAME:EST
DTSTART:20241103T060000
END:STANDARD
BEGIN:DAYLIGHT
TZOFFSETFROM:-0500
TZOFFSETTO:-0400
TZNAME:EDT
DTSTART:20250309T070000
END:DAYLIGHT
BEGIN:STANDARD
TZOFFSETFROM:-0400
TZOFFSETTO:-0500
TZNAME:EST
DTSTART:20251102T060000
END:STANDARD
BEGIN:DAYLIGHT
TZOFFSETFROM:-0500
TZOFFSETTO:-0400
TZNAME:EDT
DTSTART:20260308T070000
END:DAYLIGHT
BEGIN:STANDARD
TZOFFSETFROM:-0400
TZOFFSETTO:-0500
TZNAME:EST
DTSTART:20261101T060000
END:STANDARD
END:VTIMEZONE
BEGIN:VEVENT
DTSTART;TZID=America/New_York:20251114T180000
DTEND;TZID=America/New_York:20251114T200000
DTSTAMP:20260422T063820
CREATED:20251105T012912Z
LAST-MODIFIED:20251105T012912Z
UID:10000069-1763143200-1763150400@showcure.com
SUMMARY:Las Vegas Premier market
DESCRIPTION:posted by-\nmarketmacabrelv\nTen days away friends!! Please scare\, we mean share the flyer!! Dust off those pumpkins we’re not done spooking yet!! November 14th at @greywitch_lv
URL:https://showcure.com/tcevent/las-vegas-premier-market/
LOCATION:All Ages Venue – Henderson\, 722 W. Sunset Rd\, Henderson\, NV\, 89011\, United States
ATTACH;FMTTYPE=image/png:https://showcure.com/wp-content/uploads/2025/11/Screenshot-2025-11-04-at-5.27.22-PM.png
END:VEVENT
END:VCALENDAR